BEGIN:VCALENDAR
VERSION:2.0
PRODID:-//Women&#039;s Opportunities Resource Center - ECPv6.15.20//NONSGML v1.0//EN
CALSCALE:GREGORIAN
METHOD:PUBLISH
X-WR-CALNAME:Women&#039;s Opportunities Resource Center
X-ORIGINAL-URL:https://worc-pa.com
X-WR-CALDESC:Events for Women&#039;s Opportunities Resource Center
REFRESH-INTERVAL;VALUE=DURATION:PT1H
X-Robots-Tag:noindex
X-PUBLISHED-TTL:PT1H
BEGIN:VTIMEZONE
TZID:UTC
BEGIN:STANDARD
TZOFFSETFROM:+0000
TZOFFSETTO:+0000
TZNAME:UTC
DTSTART:20250101T000000
END:STANDARD
END:VTIMEZONE
BEGIN:VEVENT
DTSTART;TZID=UTC:20261028T100000
DTEND;TZID=UTC:20261028T113000
DTSTAMP:20260419T193233
CREATED:20230830T130243Z
LAST-MODIFIED:20230830T130353Z
UID:10000082-1793181600-1793187000@worc-pa.com
SUMMARY:Start Smart Orientation
DESCRIPTION:Register to attend the Start Smart orientation session. Attending orientation is required for enrollment in the Start Smart program.
URL:https://worc-pa.com/event/start-smart-orientation/2026-10-28/
LOCATION:Online via Zoom
CATEGORIES:Orientation
END:VEVENT
BEGIN:VEVENT
DTSTART;TZID=UTC:20261029T180000
DTEND;TZID=UTC:20261029T190000
DTSTAMP:20260419T193233
CREATED:20260122T161250Z
LAST-MODIFIED:20260122T161913Z
UID:10000172-1793296800-1793300400@worc-pa.com
SUMMARY:FSA Orientation Workshop
DESCRIPTION:FSA Orientation Workshop\nRegister for the FREE zoom online FSA Orientation Workshop session.  Attending this orientation is required for enrollment of this program.
URL:https://worc-pa.com/event/1474-2/2026-10-29/
LOCATION:Online via Zoom
END:VEVENT
BEGIN:VEVENT
DTSTART;TZID=UTC:20261105T180000
DTEND;TZID=UTC:20261105T190000
DTSTAMP:20260419T193234
CREATED:20260122T161250Z
LAST-MODIFIED:20260122T161913Z
UID:10000173-1793901600-1793905200@worc-pa.com
SUMMARY:FSA Orientation Workshop
DESCRIPTION:FSA Orientation Workshop\nRegister for the FREE zoom online FSA Orientation Workshop session.  Attending this orientation is required for enrollment of this program.
URL:https://worc-pa.com/event/1474-2/2026-11-05/
LOCATION:Online via Zoom
END:VEVENT
BEGIN:VEVENT
DTSTART;TZID=UTC:20261111T100000
DTEND;TZID=UTC:20261111T113000
DTSTAMP:20260419T193234
CREATED:20230830T130243Z
LAST-MODIFIED:20230830T130353Z
UID:10000083-1794391200-1794396600@worc-pa.com
SUMMARY:Start Smart Orientation
DESCRIPTION:Register to attend the Start Smart orientation session. Attending orientation is required for enrollment in the Start Smart program.
URL:https://worc-pa.com/event/start-smart-orientation/2026-11-11/
LOCATION:Online via Zoom
CATEGORIES:Orientation
END:VEVENT
BEGIN:VEVENT
DTSTART;TZID=UTC:20261112T180000
DTEND;TZID=UTC:20261112T190000
DTSTAMP:20260419T193234
CREATED:20260122T161250Z
LAST-MODIFIED:20260122T161913Z
UID:10000174-1794506400-1794510000@worc-pa.com
SUMMARY:FSA Orientation Workshop
DESCRIPTION:FSA Orientation Workshop\nRegister for the FREE zoom online FSA Orientation Workshop session.  Attending this orientation is required for enrollment of this program.
URL:https://worc-pa.com/event/1474-2/2026-11-12/
LOCATION:Online via Zoom
END:VEVENT
BEGIN:VEVENT
DTSTART;TZID=UTC:20261119T180000
DTEND;TZID=UTC:20261119T190000
DTSTAMP:20260419T193234
CREATED:20260122T161250Z
LAST-MODIFIED:20260122T161913Z
UID:10000175-1795111200-1795114800@worc-pa.com
SUMMARY:FSA Orientation Workshop
DESCRIPTION:FSA Orientation Workshop\nRegister for the FREE zoom online FSA Orientation Workshop session.  Attending this orientation is required for enrollment of this program.
URL:https://worc-pa.com/event/1474-2/2026-11-19/
LOCATION:Online via Zoom
END:VEVENT
BEGIN:VEVENT
DTSTART;TZID=UTC:20261125T100000
DTEND;TZID=UTC:20261125T113000
DTSTAMP:20260419T193234
CREATED:20230830T130243Z
LAST-MODIFIED:20230830T130353Z
UID:10000084-1795600800-1795606200@worc-pa.com
SUMMARY:Start Smart Orientation
DESCRIPTION:Register to attend the Start Smart orientation session. Attending orientation is required for enrollment in the Start Smart program.
URL:https://worc-pa.com/event/start-smart-orientation/2026-11-25/
LOCATION:Online via Zoom
CATEGORIES:Orientation
END:VEVENT
BEGIN:VEVENT
DTSTART;TZID=UTC:20261126T180000
DTEND;TZID=UTC:20261126T190000
DTSTAMP:20260419T193234
CREATED:20260122T161250Z
LAST-MODIFIED:20260122T161913Z
UID:10000176-1795716000-1795719600@worc-pa.com
SUMMARY:FSA Orientation Workshop
DESCRIPTION:FSA Orientation Workshop\nRegister for the FREE zoom online FSA Orientation Workshop session.  Attending this orientation is required for enrollment of this program.
URL:https://worc-pa.com/event/1474-2/2026-11-26/
LOCATION:Online via Zoom
END:VEVENT
BEGIN:VEVENT
DTSTART;TZID=UTC:20261203T180000
DTEND;TZID=UTC:20261203T190000
DTSTAMP:20260419T193234
CREATED:20260122T161250Z
LAST-MODIFIED:20260122T161913Z
UID:10000177-1796320800-1796324400@worc-pa.com
SUMMARY:FSA Orientation Workshop
DESCRIPTION:FSA Orientation Workshop\nRegister for the FREE zoom online FSA Orientation Workshop session.  Attending this orientation is required for enrollment of this program.
URL:https://worc-pa.com/event/1474-2/2026-12-03/
LOCATION:Online via Zoom
END:VEVENT
BEGIN:VEVENT
DTSTART;TZID=UTC:20261209T100000
DTEND;TZID=UTC:20261209T113000
DTSTAMP:20260419T193234
CREATED:20230830T130243Z
LAST-MODIFIED:20230830T130353Z
UID:10000085-1796810400-1796815800@worc-pa.com
SUMMARY:Start Smart Orientation
DESCRIPTION:Register to attend the Start Smart orientation session. Attending orientation is required for enrollment in the Start Smart program.
URL:https://worc-pa.com/event/start-smart-orientation/2026-12-09/
LOCATION:Online via Zoom
CATEGORIES:Orientation
END:VEVENT
BEGIN:VEVENT
DTSTART;TZID=UTC:20261210T180000
DTEND;TZID=UTC:20261210T190000
DTSTAMP:20260419T193234
CREATED:20260122T161250Z
LAST-MODIFIED:20260122T161913Z
UID:10000178-1796925600-1796929200@worc-pa.com
SUMMARY:FSA Orientation Workshop
DESCRIPTION:FSA Orientation Workshop\nRegister for the FREE zoom online FSA Orientation Workshop session.  Attending this orientation is required for enrollment of this program.
URL:https://worc-pa.com/event/1474-2/2026-12-10/
LOCATION:Online via Zoom
END:VEVENT
BEGIN:VEVENT
DTSTART;TZID=UTC:20261217T180000
DTEND;TZID=UTC:20261217T190000
DTSTAMP:20260419T193234
CREATED:20260122T161250Z
LAST-MODIFIED:20260122T161913Z
UID:10000179-1797530400-1797534000@worc-pa.com
SUMMARY:FSA Orientation Workshop
DESCRIPTION:FSA Orientation Workshop\nRegister for the FREE zoom online FSA Orientation Workshop session.  Attending this orientation is required for enrollment of this program.
URL:https://worc-pa.com/event/1474-2/2026-12-17/
LOCATION:Online via Zoom
END:VEVENT
BEGIN:VEVENT
DTSTART;TZID=UTC:20261223T100000
DTEND;TZID=UTC:20261223T113000
DTSTAMP:20260419T193234
CREATED:20230830T130243Z
LAST-MODIFIED:20230830T130353Z
UID:10000086-1798020000-1798025400@worc-pa.com
SUMMARY:Start Smart Orientation
DESCRIPTION:Register to attend the Start Smart orientation session. Attending orientation is required for enrollment in the Start Smart program.
URL:https://worc-pa.com/event/start-smart-orientation/2026-12-23/
LOCATION:Online via Zoom
CATEGORIES:Orientation
END:VEVENT
BEGIN:VEVENT
DTSTART;TZID=UTC:20261224T180000
DTEND;TZID=UTC:20261224T190000
DTSTAMP:20260419T193234
CREATED:20260122T161250Z
LAST-MODIFIED:20260122T161913Z
UID:10000180-1798135200-1798138800@worc-pa.com
SUMMARY:FSA Orientation Workshop
DESCRIPTION:FSA Orientation Workshop\nRegister for the FREE zoom online FSA Orientation Workshop session.  Attending this orientation is required for enrollment of this program.
URL:https://worc-pa.com/event/1474-2/2026-12-24/
LOCATION:Online via Zoom
END:VEVENT
BEGIN:VEVENT
DTSTART;TZID=UTC:20261231T180000
DTEND;TZID=UTC:20261231T190000
DTSTAMP:20260419T193234
CREATED:20260122T161250Z
LAST-MODIFIED:20260122T161913Z
UID:10000181-1798740000-1798743600@worc-pa.com
SUMMARY:FSA Orientation Workshop
DESCRIPTION:FSA Orientation Workshop\nRegister for the FREE zoom online FSA Orientation Workshop session.  Attending this orientation is required for enrollment of this program.
URL:https://worc-pa.com/event/1474-2/2026-12-31/
LOCATION:Online via Zoom
END:VEVENT
BEGIN:VEVENT
DTSTART;TZID=UTC:20270106T100000
DTEND;TZID=UTC:20270106T113000
DTSTAMP:20260419T193234
CREATED:20230830T130243Z
LAST-MODIFIED:20230830T130353Z
UID:10000087-1799229600-1799235000@worc-pa.com
SUMMARY:Start Smart Orientation
DESCRIPTION:Register to attend the Start Smart orientation session. Attending orientation is required for enrollment in the Start Smart program.
URL:https://worc-pa.com/event/start-smart-orientation/2027-01-06/
LOCATION:Online via Zoom
CATEGORIES:Orientation
END:VEVENT
BEGIN:VEVENT
DTSTART;TZID=UTC:20270107T180000
DTEND;TZID=UTC:20270107T190000
DTSTAMP:20260419T193234
CREATED:20260122T161250Z
LAST-MODIFIED:20260122T161913Z
UID:10000182-1799344800-1799348400@worc-pa.com
SUMMARY:FSA Orientation Workshop
DESCRIPTION:FSA Orientation Workshop\nRegister for the FREE zoom online FSA Orientation Workshop session.  Attending this orientation is required for enrollment of this program.
URL:https://worc-pa.com/event/1474-2/2027-01-07/
LOCATION:Online via Zoom
END:VEVENT
BEGIN:VEVENT
DTSTART;TZID=UTC:20270114T180000
DTEND;TZID=UTC:20270114T190000
DTSTAMP:20260419T193234
CREATED:20260122T161250Z
LAST-MODIFIED:20260122T161913Z
UID:10000183-1799949600-1799953200@worc-pa.com
SUMMARY:FSA Orientation Workshop
DESCRIPTION:FSA Orientation Workshop\nRegister for the FREE zoom online FSA Orientation Workshop session.  Attending this orientation is required for enrollment of this program.
URL:https://worc-pa.com/event/1474-2/2027-01-14/
LOCATION:Online via Zoom
END:VEVENT
BEGIN:VEVENT
DTSTART;TZID=UTC:20270120T100000
DTEND;TZID=UTC:20270120T113000
DTSTAMP:20260419T193234
CREATED:20230830T130243Z
LAST-MODIFIED:20230830T130353Z
UID:10000088-1800439200-1800444600@worc-pa.com
SUMMARY:Start Smart Orientation
DESCRIPTION:Register to attend the Start Smart orientation session. Attending orientation is required for enrollment in the Start Smart program.
URL:https://worc-pa.com/event/start-smart-orientation/2027-01-20/
LOCATION:Online via Zoom
CATEGORIES:Orientation
END:VEVENT
BEGIN:VEVENT
DTSTART;TZID=UTC:20270121T180000
DTEND;TZID=UTC:20270121T190000
DTSTAMP:20260419T193234
CREATED:20260122T161250Z
LAST-MODIFIED:20260122T161913Z
UID:10000184-1800554400-1800558000@worc-pa.com
SUMMARY:FSA Orientation Workshop
DESCRIPTION:FSA Orientation Workshop\nRegister for the FREE zoom online FSA Orientation Workshop session.  Attending this orientation is required for enrollment of this program.
URL:https://worc-pa.com/event/1474-2/2027-01-21/
LOCATION:Online via Zoom
END:VEVENT
BEGIN:VEVENT
DTSTART;TZID=UTC:20270128T180000
DTEND;TZID=UTC:20270128T190000
DTSTAMP:20260419T193234
CREATED:20260122T161250Z
LAST-MODIFIED:20260122T161913Z
UID:10000185-1801159200-1801162800@worc-pa.com
SUMMARY:FSA Orientation Workshop
DESCRIPTION:FSA Orientation Workshop\nRegister for the FREE zoom online FSA Orientation Workshop session.  Attending this orientation is required for enrollment of this program.
URL:https://worc-pa.com/event/1474-2/2027-01-28/
LOCATION:Online via Zoom
END:VEVENT
BEGIN:VEVENT
DTSTART;TZID=UTC:20270203T100000
DTEND;TZID=UTC:20270203T113000
DTSTAMP:20260419T193234
CREATED:20230830T130243Z
LAST-MODIFIED:20230830T130353Z
UID:10000089-1801648800-1801654200@worc-pa.com
SUMMARY:Start Smart Orientation
DESCRIPTION:Register to attend the Start Smart orientation session. Attending orientation is required for enrollment in the Start Smart program.
URL:https://worc-pa.com/event/start-smart-orientation/2027-02-03/
LOCATION:Online via Zoom
CATEGORIES:Orientation
END:VEVENT
BEGIN:VEVENT
DTSTART;TZID=UTC:20270204T180000
DTEND;TZID=UTC:20270204T190000
DTSTAMP:20260419T193234
CREATED:20260122T161250Z
LAST-MODIFIED:20260122T161913Z
UID:10000186-1801764000-1801767600@worc-pa.com
SUMMARY:FSA Orientation Workshop
DESCRIPTION:FSA Orientation Workshop\nRegister for the FREE zoom online FSA Orientation Workshop session.  Attending this orientation is required for enrollment of this program.
URL:https://worc-pa.com/event/1474-2/2027-02-04/
LOCATION:Online via Zoom
END:VEVENT
BEGIN:VEVENT
DTSTART;TZID=UTC:20270211T180000
DTEND;TZID=UTC:20270211T190000
DTSTAMP:20260419T193234
CREATED:20260122T161250Z
LAST-MODIFIED:20260122T161913Z
UID:10000187-1802368800-1802372400@worc-pa.com
SUMMARY:FSA Orientation Workshop
DESCRIPTION:FSA Orientation Workshop\nRegister for the FREE zoom online FSA Orientation Workshop session.  Attending this orientation is required for enrollment of this program.
URL:https://worc-pa.com/event/1474-2/2027-02-11/
LOCATION:Online via Zoom
END:VEVENT
BEGIN:VEVENT
DTSTART;TZID=UTC:20270217T100000
DTEND;TZID=UTC:20270217T113000
DTSTAMP:20260419T193234
CREATED:20230830T130243Z
LAST-MODIFIED:20230830T130353Z
UID:10000090-1802858400-1802863800@worc-pa.com
SUMMARY:Start Smart Orientation
DESCRIPTION:Register to attend the Start Smart orientation session. Attending orientation is required for enrollment in the Start Smart program.
URL:https://worc-pa.com/event/start-smart-orientation/2027-02-17/
LOCATION:Online via Zoom
CATEGORIES:Orientation
END:VEVENT
BEGIN:VEVENT
DTSTART;TZID=UTC:20270218T180000
DTEND;TZID=UTC:20270218T190000
DTSTAMP:20260419T193234
CREATED:20260122T161250Z
LAST-MODIFIED:20260122T161913Z
UID:10000188-1802973600-1802977200@worc-pa.com
SUMMARY:FSA Orientation Workshop
DESCRIPTION:FSA Orientation Workshop\nRegister for the FREE zoom online FSA Orientation Workshop session.  Attending this orientation is required for enrollment of this program.
URL:https://worc-pa.com/event/1474-2/2027-02-18/
LOCATION:Online via Zoom
END:VEVENT
BEGIN:VEVENT
DTSTART;TZID=UTC:20270225T180000
DTEND;TZID=UTC:20270225T190000
DTSTAMP:20260419T193234
CREATED:20260122T161250Z
LAST-MODIFIED:20260122T161913Z
UID:10000189-1803578400-1803582000@worc-pa.com
SUMMARY:FSA Orientation Workshop
DESCRIPTION:FSA Orientation Workshop\nRegister for the FREE zoom online FSA Orientation Workshop session.  Attending this orientation is required for enrollment of this program.
URL:https://worc-pa.com/event/1474-2/2027-02-25/
LOCATION:Online via Zoom
END:VEVENT
BEGIN:VEVENT
DTSTART;TZID=UTC:20270303T100000
DTEND;TZID=UTC:20270303T113000
DTSTAMP:20260419T193234
CREATED:20230830T130243Z
LAST-MODIFIED:20230830T130353Z
UID:10000091-1804068000-1804073400@worc-pa.com
SUMMARY:Start Smart Orientation
DESCRIPTION:Register to attend the Start Smart orientation session. Attending orientation is required for enrollment in the Start Smart program.
URL:https://worc-pa.com/event/start-smart-orientation/2027-03-03/
LOCATION:Online via Zoom
CATEGORIES:Orientation
END:VEVENT
BEGIN:VEVENT
DTSTART;TZID=UTC:20270304T180000
DTEND;TZID=UTC:20270304T190000
DTSTAMP:20260419T193234
CREATED:20260122T161250Z
LAST-MODIFIED:20260122T161913Z
UID:10000190-1804183200-1804186800@worc-pa.com
SUMMARY:FSA Orientation Workshop
DESCRIPTION:FSA Orientation Workshop\nRegister for the FREE zoom online FSA Orientation Workshop session.  Attending this orientation is required for enrollment of this program.
URL:https://worc-pa.com/event/1474-2/2027-03-04/
LOCATION:Online via Zoom
END:VEVENT
BEGIN:VEVENT
DTSTART;TZID=UTC:20270311T180000
DTEND;TZID=UTC:20270311T190000
DTSTAMP:20260419T193234
CREATED:20260122T161250Z
LAST-MODIFIED:20260122T161913Z
UID:10000191-1804788000-1804791600@worc-pa.com
SUMMARY:FSA Orientation Workshop
DESCRIPTION:FSA Orientation Workshop\nRegister for the FREE zoom online FSA Orientation Workshop session.  Attending this orientation is required for enrollment of this program.
URL:https://worc-pa.com/event/1474-2/2027-03-11/
LOCATION:Online via Zoom
END:VEVENT
END:VCALENDAR