BEGIN:VCALENDAR
VERSION:2.0
PRODID:-//Women&#039;s Opportunities Resource Center - ECPv6.15.20//NONSGML v1.0//EN
CALSCALE:GREGORIAN
METHOD:PUBLISH
X-WR-CALNAME:Women&#039;s Opportunities Resource Center
X-ORIGINAL-URL:https://worc-pa.com
X-WR-CALDESC:Events for Women&#039;s Opportunities Resource Center
REFRESH-INTERVAL;VALUE=DURATION:PT1H
X-Robots-Tag:noindex
X-PUBLISHED-TTL:PT1H
BEGIN:VTIMEZONE
TZID:UTC
BEGIN:STANDARD
TZOFFSETFROM:+0000
TZOFFSETTO:+0000
TZNAME:UTC
DTSTART:20260101T000000
END:STANDARD
END:VTIMEZONE
BEGIN:VEVENT
DTSTART;TZID=UTC:20271104T180000
DTEND;TZID=UTC:20271104T190000
DTSTAMP:20260420T022930
CREATED:20260122T161250Z
LAST-MODIFIED:20260122T161913Z
UID:10000225-1825351200-1825354800@worc-pa.com
SUMMARY:FSA Orientation Workshop
DESCRIPTION:FSA Orientation Workshop\nRegister for the FREE zoom online FSA Orientation Workshop session.  Attending this orientation is required for enrollment of this program.
URL:https://worc-pa.com/event/1474-2/2027-11-04/
LOCATION:Online via Zoom
END:VEVENT
BEGIN:VEVENT
DTSTART;TZID=UTC:20271111T180000
DTEND;TZID=UTC:20271111T190000
DTSTAMP:20260420T022930
CREATED:20260122T161250Z
LAST-MODIFIED:20260122T161913Z
UID:10000226-1825956000-1825959600@worc-pa.com
SUMMARY:FSA Orientation Workshop
DESCRIPTION:FSA Orientation Workshop\nRegister for the FREE zoom online FSA Orientation Workshop session.  Attending this orientation is required for enrollment of this program.
URL:https://worc-pa.com/event/1474-2/2027-11-11/
LOCATION:Online via Zoom
END:VEVENT
BEGIN:VEVENT
DTSTART;TZID=UTC:20271118T180000
DTEND;TZID=UTC:20271118T190000
DTSTAMP:20260420T022930
CREATED:20260122T161250Z
LAST-MODIFIED:20260122T161913Z
UID:10000227-1826560800-1826564400@worc-pa.com
SUMMARY:FSA Orientation Workshop
DESCRIPTION:FSA Orientation Workshop\nRegister for the FREE zoom online FSA Orientation Workshop session.  Attending this orientation is required for enrollment of this program.
URL:https://worc-pa.com/event/1474-2/2027-11-18/
LOCATION:Online via Zoom
END:VEVENT
BEGIN:VEVENT
DTSTART;TZID=UTC:20271125T180000
DTEND;TZID=UTC:20271125T190000
DTSTAMP:20260420T022930
CREATED:20260122T161250Z
LAST-MODIFIED:20260122T161913Z
UID:10000228-1827165600-1827169200@worc-pa.com
SUMMARY:FSA Orientation Workshop
DESCRIPTION:FSA Orientation Workshop\nRegister for the FREE zoom online FSA Orientation Workshop session.  Attending this orientation is required for enrollment of this program.
URL:https://worc-pa.com/event/1474-2/2027-11-25/
LOCATION:Online via Zoom
END:VEVENT
BEGIN:VEVENT
DTSTART;TZID=UTC:20271202T180000
DTEND;TZID=UTC:20271202T190000
DTSTAMP:20260420T022930
CREATED:20260122T161250Z
LAST-MODIFIED:20260122T161913Z
UID:10000229-1827770400-1827774000@worc-pa.com
SUMMARY:FSA Orientation Workshop
DESCRIPTION:FSA Orientation Workshop\nRegister for the FREE zoom online FSA Orientation Workshop session.  Attending this orientation is required for enrollment of this program.
URL:https://worc-pa.com/event/1474-2/2027-12-02/
LOCATION:Online via Zoom
END:VEVENT
BEGIN:VEVENT
DTSTART;TZID=UTC:20271209T180000
DTEND;TZID=UTC:20271209T190000
DTSTAMP:20260420T022930
CREATED:20260122T161250Z
LAST-MODIFIED:20260122T161913Z
UID:10000230-1828375200-1828378800@worc-pa.com
SUMMARY:FSA Orientation Workshop
DESCRIPTION:FSA Orientation Workshop\nRegister for the FREE zoom online FSA Orientation Workshop session.  Attending this orientation is required for enrollment of this program.
URL:https://worc-pa.com/event/1474-2/2027-12-09/
LOCATION:Online via Zoom
END:VEVENT
BEGIN:VEVENT
DTSTART;TZID=UTC:20271216T180000
DTEND;TZID=UTC:20271216T190000
DTSTAMP:20260420T022930
CREATED:20260122T161250Z
LAST-MODIFIED:20260122T161913Z
UID:10000231-1828980000-1828983600@worc-pa.com
SUMMARY:FSA Orientation Workshop
DESCRIPTION:FSA Orientation Workshop\nRegister for the FREE zoom online FSA Orientation Workshop session.  Attending this orientation is required for enrollment of this program.
URL:https://worc-pa.com/event/1474-2/2027-12-16/
LOCATION:Online via Zoom
END:VEVENT
BEGIN:VEVENT
DTSTART;TZID=UTC:20271223T180000
DTEND;TZID=UTC:20271223T190000
DTSTAMP:20260420T022930
CREATED:20260122T161250Z
LAST-MODIFIED:20260122T161913Z
UID:10000232-1829584800-1829588400@worc-pa.com
SUMMARY:FSA Orientation Workshop
DESCRIPTION:FSA Orientation Workshop\nRegister for the FREE zoom online FSA Orientation Workshop session.  Attending this orientation is required for enrollment of this program.
URL:https://worc-pa.com/event/1474-2/2027-12-23/
LOCATION:Online via Zoom
END:VEVENT
BEGIN:VEVENT
DTSTART;TZID=UTC:20271230T180000
DTEND;TZID=UTC:20271230T190000
DTSTAMP:20260420T022930
CREATED:20260122T161250Z
LAST-MODIFIED:20260122T161913Z
UID:10000233-1830189600-1830193200@worc-pa.com
SUMMARY:FSA Orientation Workshop
DESCRIPTION:FSA Orientation Workshop\nRegister for the FREE zoom online FSA Orientation Workshop session.  Attending this orientation is required for enrollment of this program.
URL:https://worc-pa.com/event/1474-2/2027-12-30/
LOCATION:Online via Zoom
END:VEVENT
BEGIN:VEVENT
DTSTART;TZID=UTC:20280106T180000
DTEND;TZID=UTC:20280106T190000
DTSTAMP:20260420T022930
CREATED:20260122T161250Z
LAST-MODIFIED:20260122T161913Z
UID:10000234-1830794400-1830798000@worc-pa.com
SUMMARY:FSA Orientation Workshop
DESCRIPTION:FSA Orientation Workshop\nRegister for the FREE zoom online FSA Orientation Workshop session.  Attending this orientation is required for enrollment of this program.
URL:https://worc-pa.com/event/1474-2/2028-01-06/
LOCATION:Online via Zoom
END:VEVENT
BEGIN:VEVENT
DTSTART;TZID=UTC:20280113T180000
DTEND;TZID=UTC:20280113T190000
DTSTAMP:20260420T022930
CREATED:20260122T161250Z
LAST-MODIFIED:20260122T161913Z
UID:10000235-1831399200-1831402800@worc-pa.com
SUMMARY:FSA Orientation Workshop
DESCRIPTION:FSA Orientation Workshop\nRegister for the FREE zoom online FSA Orientation Workshop session.  Attending this orientation is required for enrollment of this program.
URL:https://worc-pa.com/event/1474-2/2028-01-13/
LOCATION:Online via Zoom
END:VEVENT
BEGIN:VEVENT
DTSTART;TZID=UTC:20280120T180000
DTEND;TZID=UTC:20280120T190000
DTSTAMP:20260420T022930
CREATED:20260122T161250Z
LAST-MODIFIED:20260122T161913Z
UID:10000236-1832004000-1832007600@worc-pa.com
SUMMARY:FSA Orientation Workshop
DESCRIPTION:FSA Orientation Workshop\nRegister for the FREE zoom online FSA Orientation Workshop session.  Attending this orientation is required for enrollment of this program.
URL:https://worc-pa.com/event/1474-2/2028-01-20/
LOCATION:Online via Zoom
END:VEVENT
BEGIN:VEVENT
DTSTART;TZID=UTC:20280127T180000
DTEND;TZID=UTC:20280127T190000
DTSTAMP:20260420T022930
CREATED:20260122T161250Z
LAST-MODIFIED:20260122T161913Z
UID:10000237-1832608800-1832612400@worc-pa.com
SUMMARY:FSA Orientation Workshop
DESCRIPTION:FSA Orientation Workshop\nRegister for the FREE zoom online FSA Orientation Workshop session.  Attending this orientation is required for enrollment of this program.
URL:https://worc-pa.com/event/1474-2/2028-01-27/
LOCATION:Online via Zoom
END:VEVENT
BEGIN:VEVENT
DTSTART;TZID=UTC:20280203T180000
DTEND;TZID=UTC:20280203T190000
DTSTAMP:20260420T022930
CREATED:20260122T161250Z
LAST-MODIFIED:20260122T161913Z
UID:10000238-1833213600-1833217200@worc-pa.com
SUMMARY:FSA Orientation Workshop
DESCRIPTION:FSA Orientation Workshop\nRegister for the FREE zoom online FSA Orientation Workshop session.  Attending this orientation is required for enrollment of this program.
URL:https://worc-pa.com/event/1474-2/2028-02-03/
LOCATION:Online via Zoom
END:VEVENT
BEGIN:VEVENT
DTSTART;TZID=UTC:20280210T180000
DTEND;TZID=UTC:20280210T190000
DTSTAMP:20260420T022930
CREATED:20260122T161250Z
LAST-MODIFIED:20260122T161913Z
UID:10000239-1833818400-1833822000@worc-pa.com
SUMMARY:FSA Orientation Workshop
DESCRIPTION:FSA Orientation Workshop\nRegister for the FREE zoom online FSA Orientation Workshop session.  Attending this orientation is required for enrollment of this program.
URL:https://worc-pa.com/event/1474-2/2028-02-10/
LOCATION:Online via Zoom
END:VEVENT
BEGIN:VEVENT
DTSTART;TZID=UTC:20280217T180000
DTEND;TZID=UTC:20280217T190000
DTSTAMP:20260420T022930
CREATED:20260122T161250Z
LAST-MODIFIED:20260122T161913Z
UID:10000240-1834423200-1834426800@worc-pa.com
SUMMARY:FSA Orientation Workshop
DESCRIPTION:FSA Orientation Workshop\nRegister for the FREE zoom online FSA Orientation Workshop session.  Attending this orientation is required for enrollment of this program.
URL:https://worc-pa.com/event/1474-2/2028-02-17/
LOCATION:Online via Zoom
END:VEVENT
BEGIN:VEVENT
DTSTART;TZID=UTC:20280224T180000
DTEND;TZID=UTC:20280224T190000
DTSTAMP:20260420T022930
CREATED:20260122T161250Z
LAST-MODIFIED:20260122T161913Z
UID:10000241-1835028000-1835031600@worc-pa.com
SUMMARY:FSA Orientation Workshop
DESCRIPTION:FSA Orientation Workshop\nRegister for the FREE zoom online FSA Orientation Workshop session.  Attending this orientation is required for enrollment of this program.
URL:https://worc-pa.com/event/1474-2/2028-02-24/
LOCATION:Online via Zoom
END:VEVENT
BEGIN:VEVENT
DTSTART;TZID=UTC:20280302T180000
DTEND;TZID=UTC:20280302T190000
DTSTAMP:20260420T022930
CREATED:20260122T161250Z
LAST-MODIFIED:20260122T161913Z
UID:10000242-1835632800-1835636400@worc-pa.com
SUMMARY:FSA Orientation Workshop
DESCRIPTION:FSA Orientation Workshop\nRegister for the FREE zoom online FSA Orientation Workshop session.  Attending this orientation is required for enrollment of this program.
URL:https://worc-pa.com/event/1474-2/2028-03-02/
LOCATION:Online via Zoom
END:VEVENT
BEGIN:VEVENT
DTSTART;TZID=UTC:20280309T180000
DTEND;TZID=UTC:20280309T190000
DTSTAMP:20260420T022930
CREATED:20260122T161250Z
LAST-MODIFIED:20260122T161913Z
UID:10000243-1836237600-1836241200@worc-pa.com
SUMMARY:FSA Orientation Workshop
DESCRIPTION:FSA Orientation Workshop\nRegister for the FREE zoom online FSA Orientation Workshop session.  Attending this orientation is required for enrollment of this program.
URL:https://worc-pa.com/event/1474-2/2028-03-09/
LOCATION:Online via Zoom
END:VEVENT
BEGIN:VEVENT
DTSTART;TZID=UTC:20280316T180000
DTEND;TZID=UTC:20280316T190000
DTSTAMP:20260420T022930
CREATED:20260122T161250Z
LAST-MODIFIED:20260122T161913Z
UID:10000244-1836842400-1836846000@worc-pa.com
SUMMARY:FSA Orientation Workshop
DESCRIPTION:FSA Orientation Workshop\nRegister for the FREE zoom online FSA Orientation Workshop session.  Attending this orientation is required for enrollment of this program.
URL:https://worc-pa.com/event/1474-2/2028-03-16/
LOCATION:Online via Zoom
END:VEVENT
BEGIN:VEVENT
DTSTART;TZID=UTC:20280323T180000
DTEND;TZID=UTC:20280323T190000
DTSTAMP:20260420T022930
CREATED:20260122T161250Z
LAST-MODIFIED:20260122T161913Z
UID:10000245-1837447200-1837450800@worc-pa.com
SUMMARY:FSA Orientation Workshop
DESCRIPTION:FSA Orientation Workshop\nRegister for the FREE zoom online FSA Orientation Workshop session.  Attending this orientation is required for enrollment of this program.
URL:https://worc-pa.com/event/1474-2/2028-03-23/
LOCATION:Online via Zoom
END:VEVENT
BEGIN:VEVENT
DTSTART;TZID=UTC:20280330T180000
DTEND;TZID=UTC:20280330T190000
DTSTAMP:20260420T022930
CREATED:20260122T161250Z
LAST-MODIFIED:20260122T161913Z
UID:10000246-1838052000-1838055600@worc-pa.com
SUMMARY:FSA Orientation Workshop
DESCRIPTION:FSA Orientation Workshop\nRegister for the FREE zoom online FSA Orientation Workshop session.  Attending this orientation is required for enrollment of this program.
URL:https://worc-pa.com/event/1474-2/2028-03-30/
LOCATION:Online via Zoom
END:VEVENT
BEGIN:VEVENT
DTSTART;TZID=UTC:20280406T180000
DTEND;TZID=UTC:20280406T190000
DTSTAMP:20260420T022930
CREATED:20260122T161250Z
LAST-MODIFIED:20260122T161913Z
UID:10000247-1838656800-1838660400@worc-pa.com
SUMMARY:FSA Orientation Workshop
DESCRIPTION:FSA Orientation Workshop\nRegister for the FREE zoom online FSA Orientation Workshop session.  Attending this orientation is required for enrollment of this program.
URL:https://worc-pa.com/event/1474-2/2028-04-06/
LOCATION:Online via Zoom
END:VEVENT
BEGIN:VEVENT
DTSTART;TZID=UTC:20280413T180000
DTEND;TZID=UTC:20280413T190000
DTSTAMP:20260420T022930
CREATED:20260122T161250Z
LAST-MODIFIED:20260122T161913Z
UID:10000248-1839261600-1839265200@worc-pa.com
SUMMARY:FSA Orientation Workshop
DESCRIPTION:FSA Orientation Workshop\nRegister for the FREE zoom online FSA Orientation Workshop session.  Attending this orientation is required for enrollment of this program.
URL:https://worc-pa.com/event/1474-2/2028-04-13/
LOCATION:Online via Zoom
END:VEVENT
BEGIN:VEVENT
DTSTART;TZID=UTC:20280420T180000
DTEND;TZID=UTC:20280420T190000
DTSTAMP:20260420T022930
CREATED:20260122T161250Z
LAST-MODIFIED:20260122T161913Z
UID:10000249-1839866400-1839870000@worc-pa.com
SUMMARY:FSA Orientation Workshop
DESCRIPTION:FSA Orientation Workshop\nRegister for the FREE zoom online FSA Orientation Workshop session.  Attending this orientation is required for enrollment of this program.
URL:https://worc-pa.com/event/1474-2/2028-04-20/
LOCATION:Online via Zoom
END:VEVENT
BEGIN:VEVENT
DTSTART;TZID=UTC:20280427T180000
DTEND;TZID=UTC:20280427T190000
DTSTAMP:20260420T022930
CREATED:20260122T161250Z
LAST-MODIFIED:20260122T161913Z
UID:10000250-1840471200-1840474800@worc-pa.com
SUMMARY:FSA Orientation Workshop
DESCRIPTION:FSA Orientation Workshop\nRegister for the FREE zoom online FSA Orientation Workshop session.  Attending this orientation is required for enrollment of this program.
URL:https://worc-pa.com/event/1474-2/2028-04-27/
LOCATION:Online via Zoom
END:VEVENT
BEGIN:VEVENT
DTSTART;TZID=UTC:20280504T180000
DTEND;TZID=UTC:20280504T190000
DTSTAMP:20260420T022930
CREATED:20260122T161250Z
LAST-MODIFIED:20260122T161913Z
UID:10000251-1841076000-1841079600@worc-pa.com
SUMMARY:FSA Orientation Workshop
DESCRIPTION:FSA Orientation Workshop\nRegister for the FREE zoom online FSA Orientation Workshop session.  Attending this orientation is required for enrollment of this program.
URL:https://worc-pa.com/event/1474-2/2028-05-04/
LOCATION:Online via Zoom
END:VEVENT
BEGIN:VEVENT
DTSTART;TZID=UTC:20280511T180000
DTEND;TZID=UTC:20280511T190000
DTSTAMP:20260420T022930
CREATED:20260122T161250Z
LAST-MODIFIED:20260122T161913Z
UID:10000252-1841680800-1841684400@worc-pa.com
SUMMARY:FSA Orientation Workshop
DESCRIPTION:FSA Orientation Workshop\nRegister for the FREE zoom online FSA Orientation Workshop session.  Attending this orientation is required for enrollment of this program.
URL:https://worc-pa.com/event/1474-2/2028-05-11/
LOCATION:Online via Zoom
END:VEVENT
BEGIN:VEVENT
DTSTART;TZID=UTC:20280518T180000
DTEND;TZID=UTC:20280518T190000
DTSTAMP:20260420T022930
CREATED:20260122T161250Z
LAST-MODIFIED:20260122T161913Z
UID:10000253-1842285600-1842289200@worc-pa.com
SUMMARY:FSA Orientation Workshop
DESCRIPTION:FSA Orientation Workshop\nRegister for the FREE zoom online FSA Orientation Workshop session.  Attending this orientation is required for enrollment of this program.
URL:https://worc-pa.com/event/1474-2/2028-05-18/
LOCATION:Online via Zoom
END:VEVENT
BEGIN:VEVENT
DTSTART;TZID=UTC:20280525T180000
DTEND;TZID=UTC:20280525T190000
DTSTAMP:20260420T022930
CREATED:20260122T161250Z
LAST-MODIFIED:20260122T161913Z
UID:10000254-1842890400-1842894000@worc-pa.com
SUMMARY:FSA Orientation Workshop
DESCRIPTION:FSA Orientation Workshop\nRegister for the FREE zoom online FSA Orientation Workshop session.  Attending this orientation is required for enrollment of this program.
URL:https://worc-pa.com/event/1474-2/2028-05-25/
LOCATION:Online via Zoom
END:VEVENT
END:VCALENDAR