BEGIN:VCALENDAR
VERSION:2.0
PRODID:-//Women&#039;s Opportunities Resource Center - ECPv6.15.20//NONSGML v1.0//EN
CALSCALE:GREGORIAN
METHOD:PUBLISH
X-ORIGINAL-URL:https://worc-pa.com
X-WR-CALDESC:Events for Women&#039;s Opportunities Resource Center
REFRESH-INTERVAL;VALUE=DURATION:PT1H
X-Robots-Tag:noindex
X-PUBLISHED-TTL:PT1H
BEGIN:VTIMEZONE
TZID:UTC
BEGIN:STANDARD
TZOFFSETFROM:+0000
TZOFFSETTO:+0000
TZNAME:UTC
DTSTART:20250101T000000
END:STANDARD
END:VTIMEZONE
BEGIN:VEVENT
DTSTART;TZID=UTC:20260702T180000
DTEND;TZID=UTC:20260702T190000
DTSTAMP:20260419T134023
CREATED:20260122T161250Z
LAST-MODIFIED:20260122T161913Z
UID:10000155-1783015200-1783018800@worc-pa.com
SUMMARY:FSA Orientation Workshop
DESCRIPTION:FSA Orientation Workshop\nRegister for the FREE zoom online FSA Orientation Workshop session.  Attending this orientation is required for enrollment of this program.
URL:https://worc-pa.com/event/1474-2/2026-07-02/
LOCATION:Online via Zoom
END:VEVENT
BEGIN:VEVENT
DTSTART;TZID=UTC:20260709T180000
DTEND;TZID=UTC:20260709T190000
DTSTAMP:20260419T134023
CREATED:20260122T161250Z
LAST-MODIFIED:20260122T161913Z
UID:10000156-1783620000-1783623600@worc-pa.com
SUMMARY:FSA Orientation Workshop
DESCRIPTION:FSA Orientation Workshop\nRegister for the FREE zoom online FSA Orientation Workshop session.  Attending this orientation is required for enrollment of this program.
URL:https://worc-pa.com/event/1474-2/2026-07-09/
LOCATION:Online via Zoom
END:VEVENT
BEGIN:VEVENT
DTSTART;TZID=UTC:20260716T180000
DTEND;TZID=UTC:20260716T190000
DTSTAMP:20260419T134023
CREATED:20260122T161250Z
LAST-MODIFIED:20260122T161913Z
UID:10000157-1784224800-1784228400@worc-pa.com
SUMMARY:FSA Orientation Workshop
DESCRIPTION:FSA Orientation Workshop\nRegister for the FREE zoom online FSA Orientation Workshop session.  Attending this orientation is required for enrollment of this program.
URL:https://worc-pa.com/event/1474-2/2026-07-16/
LOCATION:Online via Zoom
END:VEVENT
BEGIN:VEVENT
DTSTART;TZID=UTC:20260723T180000
DTEND;TZID=UTC:20260723T190000
DTSTAMP:20260419T134023
CREATED:20260122T161250Z
LAST-MODIFIED:20260122T161913Z
UID:10000158-1784829600-1784833200@worc-pa.com
SUMMARY:FSA Orientation Workshop
DESCRIPTION:FSA Orientation Workshop\nRegister for the FREE zoom online FSA Orientation Workshop session.  Attending this orientation is required for enrollment of this program.
URL:https://worc-pa.com/event/1474-2/2026-07-23/
LOCATION:Online via Zoom
END:VEVENT
BEGIN:VEVENT
DTSTART;TZID=UTC:20260730T180000
DTEND;TZID=UTC:20260730T190000
DTSTAMP:20260419T134023
CREATED:20260122T161250Z
LAST-MODIFIED:20260122T161913Z
UID:10000159-1785434400-1785438000@worc-pa.com
SUMMARY:FSA Orientation Workshop
DESCRIPTION:FSA Orientation Workshop\nRegister for the FREE zoom online FSA Orientation Workshop session.  Attending this orientation is required for enrollment of this program.
URL:https://worc-pa.com/event/1474-2/2026-07-30/
LOCATION:Online via Zoom
END:VEVENT
BEGIN:VEVENT
DTSTART;TZID=UTC:20260806T180000
DTEND;TZID=UTC:20260806T190000
DTSTAMP:20260419T134023
CREATED:20260122T161250Z
LAST-MODIFIED:20260122T161913Z
UID:10000160-1786039200-1786042800@worc-pa.com
SUMMARY:FSA Orientation Workshop
DESCRIPTION:FSA Orientation Workshop\nRegister for the FREE zoom online FSA Orientation Workshop session.  Attending this orientation is required for enrollment of this program.
URL:https://worc-pa.com/event/1474-2/2026-08-06/
LOCATION:Online via Zoom
END:VEVENT
BEGIN:VEVENT
DTSTART;TZID=UTC:20260813T180000
DTEND;TZID=UTC:20260813T190000
DTSTAMP:20260419T134023
CREATED:20260122T161250Z
LAST-MODIFIED:20260122T161913Z
UID:10000161-1786644000-1786647600@worc-pa.com
SUMMARY:FSA Orientation Workshop
DESCRIPTION:FSA Orientation Workshop\nRegister for the FREE zoom online FSA Orientation Workshop session.  Attending this orientation is required for enrollment of this program.
URL:https://worc-pa.com/event/1474-2/2026-08-13/
LOCATION:Online via Zoom
END:VEVENT
BEGIN:VEVENT
DTSTART;TZID=UTC:20260820T180000
DTEND;TZID=UTC:20260820T190000
DTSTAMP:20260419T134023
CREATED:20260122T161250Z
LAST-MODIFIED:20260122T161913Z
UID:10000162-1787248800-1787252400@worc-pa.com
SUMMARY:FSA Orientation Workshop
DESCRIPTION:FSA Orientation Workshop\nRegister for the FREE zoom online FSA Orientation Workshop session.  Attending this orientation is required for enrollment of this program.
URL:https://worc-pa.com/event/1474-2/2026-08-20/
LOCATION:Online via Zoom
END:VEVENT
BEGIN:VEVENT
DTSTART;TZID=UTC:20260827T180000
DTEND;TZID=UTC:20260827T190000
DTSTAMP:20260419T134023
CREATED:20260122T161250Z
LAST-MODIFIED:20260122T161913Z
UID:10000163-1787853600-1787857200@worc-pa.com
SUMMARY:FSA Orientation Workshop
DESCRIPTION:FSA Orientation Workshop\nRegister for the FREE zoom online FSA Orientation Workshop session.  Attending this orientation is required for enrollment of this program.
URL:https://worc-pa.com/event/1474-2/2026-08-27/
LOCATION:Online via Zoom
END:VEVENT
BEGIN:VEVENT
DTSTART;TZID=UTC:20260903T180000
DTEND;TZID=UTC:20260903T190000
DTSTAMP:20260419T134023
CREATED:20260122T161250Z
LAST-MODIFIED:20260122T161913Z
UID:10000164-1788458400-1788462000@worc-pa.com
SUMMARY:FSA Orientation Workshop
DESCRIPTION:FSA Orientation Workshop\nRegister for the FREE zoom online FSA Orientation Workshop session.  Attending this orientation is required for enrollment of this program.
URL:https://worc-pa.com/event/1474-2/2026-09-03/
LOCATION:Online via Zoom
END:VEVENT
BEGIN:VEVENT
DTSTART;TZID=UTC:20260910T180000
DTEND;TZID=UTC:20260910T190000
DTSTAMP:20260419T134023
CREATED:20260122T161250Z
LAST-MODIFIED:20260122T161913Z
UID:10000165-1789063200-1789066800@worc-pa.com
SUMMARY:FSA Orientation Workshop
DESCRIPTION:FSA Orientation Workshop\nRegister for the FREE zoom online FSA Orientation Workshop session.  Attending this orientation is required for enrollment of this program.
URL:https://worc-pa.com/event/1474-2/2026-09-10/
LOCATION:Online via Zoom
END:VEVENT
BEGIN:VEVENT
DTSTART;TZID=UTC:20260917T180000
DTEND;TZID=UTC:20260917T190000
DTSTAMP:20260419T134023
CREATED:20260122T161250Z
LAST-MODIFIED:20260122T161913Z
UID:10000166-1789668000-1789671600@worc-pa.com
SUMMARY:FSA Orientation Workshop
DESCRIPTION:FSA Orientation Workshop\nRegister for the FREE zoom online FSA Orientation Workshop session.  Attending this orientation is required for enrollment of this program.
URL:https://worc-pa.com/event/1474-2/2026-09-17/
LOCATION:Online via Zoom
END:VEVENT
BEGIN:VEVENT
DTSTART;TZID=UTC:20260924T180000
DTEND;TZID=UTC:20260924T190000
DTSTAMP:20260419T134023
CREATED:20260122T161250Z
LAST-MODIFIED:20260122T161913Z
UID:10000167-1790272800-1790276400@worc-pa.com
SUMMARY:FSA Orientation Workshop
DESCRIPTION:FSA Orientation Workshop\nRegister for the FREE zoom online FSA Orientation Workshop session.  Attending this orientation is required for enrollment of this program.
URL:https://worc-pa.com/event/1474-2/2026-09-24/
LOCATION:Online via Zoom
END:VEVENT
BEGIN:VEVENT
DTSTART;TZID=UTC:20261001T180000
DTEND;TZID=UTC:20261001T190000
DTSTAMP:20260419T134023
CREATED:20260122T161250Z
LAST-MODIFIED:20260122T161913Z
UID:10000168-1790877600-1790881200@worc-pa.com
SUMMARY:FSA Orientation Workshop
DESCRIPTION:FSA Orientation Workshop\nRegister for the FREE zoom online FSA Orientation Workshop session.  Attending this orientation is required for enrollment of this program.
URL:https://worc-pa.com/event/1474-2/2026-10-01/
LOCATION:Online via Zoom
END:VEVENT
BEGIN:VEVENT
DTSTART;TZID=UTC:20261008T180000
DTEND;TZID=UTC:20261008T190000
DTSTAMP:20260419T134023
CREATED:20260122T161250Z
LAST-MODIFIED:20260122T161913Z
UID:10000169-1791482400-1791486000@worc-pa.com
SUMMARY:FSA Orientation Workshop
DESCRIPTION:FSA Orientation Workshop\nRegister for the FREE zoom online FSA Orientation Workshop session.  Attending this orientation is required for enrollment of this program.
URL:https://worc-pa.com/event/1474-2/2026-10-08/
LOCATION:Online via Zoom
END:VEVENT
BEGIN:VEVENT
DTSTART;TZID=UTC:20261015T180000
DTEND;TZID=UTC:20261015T190000
DTSTAMP:20260419T134023
CREATED:20260122T161250Z
LAST-MODIFIED:20260122T161913Z
UID:10000170-1792087200-1792090800@worc-pa.com
SUMMARY:FSA Orientation Workshop
DESCRIPTION:FSA Orientation Workshop\nRegister for the FREE zoom online FSA Orientation Workshop session.  Attending this orientation is required for enrollment of this program.
URL:https://worc-pa.com/event/1474-2/2026-10-15/
LOCATION:Online via Zoom
END:VEVENT
BEGIN:VEVENT
DTSTART;TZID=UTC:20261022T180000
DTEND;TZID=UTC:20261022T190000
DTSTAMP:20260419T134023
CREATED:20260122T161250Z
LAST-MODIFIED:20260122T161913Z
UID:10000171-1792692000-1792695600@worc-pa.com
SUMMARY:FSA Orientation Workshop
DESCRIPTION:FSA Orientation Workshop\nRegister for the FREE zoom online FSA Orientation Workshop session.  Attending this orientation is required for enrollment of this program.
URL:https://worc-pa.com/event/1474-2/2026-10-22/
LOCATION:Online via Zoom
END:VEVENT
BEGIN:VEVENT
DTSTART;TZID=UTC:20261029T180000
DTEND;TZID=UTC:20261029T190000
DTSTAMP:20260419T134023
CREATED:20260122T161250Z
LAST-MODIFIED:20260122T161913Z
UID:10000172-1793296800-1793300400@worc-pa.com
SUMMARY:FSA Orientation Workshop
DESCRIPTION:FSA Orientation Workshop\nRegister for the FREE zoom online FSA Orientation Workshop session.  Attending this orientation is required for enrollment of this program.
URL:https://worc-pa.com/event/1474-2/2026-10-29/
LOCATION:Online via Zoom
END:VEVENT
BEGIN:VEVENT
DTSTART;TZID=UTC:20261105T180000
DTEND;TZID=UTC:20261105T190000
DTSTAMP:20260419T134023
CREATED:20260122T161250Z
LAST-MODIFIED:20260122T161913Z
UID:10000173-1793901600-1793905200@worc-pa.com
SUMMARY:FSA Orientation Workshop
DESCRIPTION:FSA Orientation Workshop\nRegister for the FREE zoom online FSA Orientation Workshop session.  Attending this orientation is required for enrollment of this program.
URL:https://worc-pa.com/event/1474-2/2026-11-05/
LOCATION:Online via Zoom
END:VEVENT
BEGIN:VEVENT
DTSTART;TZID=UTC:20261112T180000
DTEND;TZID=UTC:20261112T190000
DTSTAMP:20260419T134023
CREATED:20260122T161250Z
LAST-MODIFIED:20260122T161913Z
UID:10000174-1794506400-1794510000@worc-pa.com
SUMMARY:FSA Orientation Workshop
DESCRIPTION:FSA Orientation Workshop\nRegister for the FREE zoom online FSA Orientation Workshop session.  Attending this orientation is required for enrollment of this program.
URL:https://worc-pa.com/event/1474-2/2026-11-12/
LOCATION:Online via Zoom
END:VEVENT
BEGIN:VEVENT
DTSTART;TZID=UTC:20261119T180000
DTEND;TZID=UTC:20261119T190000
DTSTAMP:20260419T134023
CREATED:20260122T161250Z
LAST-MODIFIED:20260122T161913Z
UID:10000175-1795111200-1795114800@worc-pa.com
SUMMARY:FSA Orientation Workshop
DESCRIPTION:FSA Orientation Workshop\nRegister for the FREE zoom online FSA Orientation Workshop session.  Attending this orientation is required for enrollment of this program.
URL:https://worc-pa.com/event/1474-2/2026-11-19/
LOCATION:Online via Zoom
END:VEVENT
BEGIN:VEVENT
DTSTART;TZID=UTC:20261126T180000
DTEND;TZID=UTC:20261126T190000
DTSTAMP:20260419T134023
CREATED:20260122T161250Z
LAST-MODIFIED:20260122T161913Z
UID:10000176-1795716000-1795719600@worc-pa.com
SUMMARY:FSA Orientation Workshop
DESCRIPTION:FSA Orientation Workshop\nRegister for the FREE zoom online FSA Orientation Workshop session.  Attending this orientation is required for enrollment of this program.
URL:https://worc-pa.com/event/1474-2/2026-11-26/
LOCATION:Online via Zoom
END:VEVENT
BEGIN:VEVENT
DTSTART;TZID=UTC:20261203T180000
DTEND;TZID=UTC:20261203T190000
DTSTAMP:20260419T134023
CREATED:20260122T161250Z
LAST-MODIFIED:20260122T161913Z
UID:10000177-1796320800-1796324400@worc-pa.com
SUMMARY:FSA Orientation Workshop
DESCRIPTION:FSA Orientation Workshop\nRegister for the FREE zoom online FSA Orientation Workshop session.  Attending this orientation is required for enrollment of this program.
URL:https://worc-pa.com/event/1474-2/2026-12-03/
LOCATION:Online via Zoom
END:VEVENT
BEGIN:VEVENT
DTSTART;TZID=UTC:20261210T180000
DTEND;TZID=UTC:20261210T190000
DTSTAMP:20260419T134023
CREATED:20260122T161250Z
LAST-MODIFIED:20260122T161913Z
UID:10000178-1796925600-1796929200@worc-pa.com
SUMMARY:FSA Orientation Workshop
DESCRIPTION:FSA Orientation Workshop\nRegister for the FREE zoom online FSA Orientation Workshop session.  Attending this orientation is required for enrollment of this program.
URL:https://worc-pa.com/event/1474-2/2026-12-10/
LOCATION:Online via Zoom
END:VEVENT
BEGIN:VEVENT
DTSTART;TZID=UTC:20261217T180000
DTEND;TZID=UTC:20261217T190000
DTSTAMP:20260419T134023
CREATED:20260122T161250Z
LAST-MODIFIED:20260122T161913Z
UID:10000179-1797530400-1797534000@worc-pa.com
SUMMARY:FSA Orientation Workshop
DESCRIPTION:FSA Orientation Workshop\nRegister for the FREE zoom online FSA Orientation Workshop session.  Attending this orientation is required for enrollment of this program.
URL:https://worc-pa.com/event/1474-2/2026-12-17/
LOCATION:Online via Zoom
END:VEVENT
BEGIN:VEVENT
DTSTART;TZID=UTC:20261224T180000
DTEND;TZID=UTC:20261224T190000
DTSTAMP:20260419T134023
CREATED:20260122T161250Z
LAST-MODIFIED:20260122T161913Z
UID:10000180-1798135200-1798138800@worc-pa.com
SUMMARY:FSA Orientation Workshop
DESCRIPTION:FSA Orientation Workshop\nRegister for the FREE zoom online FSA Orientation Workshop session.  Attending this orientation is required for enrollment of this program.
URL:https://worc-pa.com/event/1474-2/2026-12-24/
LOCATION:Online via Zoom
END:VEVENT
BEGIN:VEVENT
DTSTART;TZID=UTC:20261231T180000
DTEND;TZID=UTC:20261231T190000
DTSTAMP:20260419T134023
CREATED:20260122T161250Z
LAST-MODIFIED:20260122T161913Z
UID:10000181-1798740000-1798743600@worc-pa.com
SUMMARY:FSA Orientation Workshop
DESCRIPTION:FSA Orientation Workshop\nRegister for the FREE zoom online FSA Orientation Workshop session.  Attending this orientation is required for enrollment of this program.
URL:https://worc-pa.com/event/1474-2/2026-12-31/
LOCATION:Online via Zoom
END:VEVENT
BEGIN:VEVENT
DTSTART;TZID=UTC:20270107T180000
DTEND;TZID=UTC:20270107T190000
DTSTAMP:20260419T134023
CREATED:20260122T161250Z
LAST-MODIFIED:20260122T161913Z
UID:10000182-1799344800-1799348400@worc-pa.com
SUMMARY:FSA Orientation Workshop
DESCRIPTION:FSA Orientation Workshop\nRegister for the FREE zoom online FSA Orientation Workshop session.  Attending this orientation is required for enrollment of this program.
URL:https://worc-pa.com/event/1474-2/2027-01-07/
LOCATION:Online via Zoom
END:VEVENT
BEGIN:VEVENT
DTSTART;TZID=UTC:20270114T180000
DTEND;TZID=UTC:20270114T190000
DTSTAMP:20260419T134023
CREATED:20260122T161250Z
LAST-MODIFIED:20260122T161913Z
UID:10000183-1799949600-1799953200@worc-pa.com
SUMMARY:FSA Orientation Workshop
DESCRIPTION:FSA Orientation Workshop\nRegister for the FREE zoom online FSA Orientation Workshop session.  Attending this orientation is required for enrollment of this program.
URL:https://worc-pa.com/event/1474-2/2027-01-14/
LOCATION:Online via Zoom
END:VEVENT
BEGIN:VEVENT
DTSTART;TZID=UTC:20270121T180000
DTEND;TZID=UTC:20270121T190000
DTSTAMP:20260419T134023
CREATED:20260122T161250Z
LAST-MODIFIED:20260122T161913Z
UID:10000184-1800554400-1800558000@worc-pa.com
SUMMARY:FSA Orientation Workshop
DESCRIPTION:FSA Orientation Workshop\nRegister for the FREE zoom online FSA Orientation Workshop session.  Attending this orientation is required for enrollment of this program.
URL:https://worc-pa.com/event/1474-2/2027-01-21/
LOCATION:Online via Zoom
END:VEVENT
END:VCALENDAR