BEGIN:VCALENDAR
VERSION:2.0
PRODID:-//Women&#039;s Opportunities Resource Center - ECPv6.15.20//NONSGML v1.0//EN
CALSCALE:GREGORIAN
METHOD:PUBLISH
X-WR-CALNAME:Women&#039;s Opportunities Resource Center
X-ORIGINAL-URL:https://worc-pa.com
X-WR-CALDESC:Events for Women&#039;s Opportunities Resource Center
REFRESH-INTERVAL;VALUE=DURATION:PT1H
X-Robots-Tag:noindex
X-PUBLISHED-TTL:PT1H
BEGIN:VTIMEZONE
TZID:UTC
BEGIN:STANDARD
TZOFFSETFROM:+0000
TZOFFSETTO:+0000
TZNAME:UTC
DTSTART:20220101T000000
END:STANDARD
END:VTIMEZONE
BEGIN:VEVENT
DTSTART;TZID=UTC:20240515T100000
DTEND;TZID=UTC:20240515T113000
DTSTAMP:20260420T024747
CREATED:20230830T130243Z
LAST-MODIFIED:20230830T130353Z
UID:10000018-1715767200-1715772600@worc-pa.com
SUMMARY:Start Smart Orientation
DESCRIPTION:Register to attend the Start Smart orientation session. Attending orientation is required for enrollment in the Start Smart program.
URL:https://worc-pa.com/event/start-smart-orientation/2024-05-15/
LOCATION:Online via Zoom
CATEGORIES:Orientation
END:VEVENT
BEGIN:VEVENT
DTSTART;TZID=UTC:20240501T100000
DTEND;TZID=UTC:20240501T113000
DTSTAMP:20260420T024747
CREATED:20230830T130243Z
LAST-MODIFIED:20230830T130353Z
UID:10000017-1714557600-1714563000@worc-pa.com
SUMMARY:Start Smart Orientation
DESCRIPTION:Register to attend the Start Smart orientation session. Attending orientation is required for enrollment in the Start Smart program.
URL:https://worc-pa.com/event/start-smart-orientation/2024-05-01/
LOCATION:Online via Zoom
CATEGORIES:Orientation
END:VEVENT
BEGIN:VEVENT
DTSTART;TZID=UTC:20240417T100000
DTEND;TZID=UTC:20240417T113000
DTSTAMP:20260420T024747
CREATED:20230830T130243Z
LAST-MODIFIED:20230830T130353Z
UID:10000016-1713348000-1713353400@worc-pa.com
SUMMARY:Start Smart Orientation
DESCRIPTION:Register to attend the Start Smart orientation session. Attending orientation is required for enrollment in the Start Smart program.
URL:https://worc-pa.com/event/start-smart-orientation/2024-04-17/
LOCATION:Online via Zoom
CATEGORIES:Orientation
END:VEVENT
BEGIN:VEVENT
DTSTART;TZID=UTC:20240403T100000
DTEND;TZID=UTC:20240403T113000
DTSTAMP:20260420T024747
CREATED:20230830T130243Z
LAST-MODIFIED:20230830T130353Z
UID:10000015-1712138400-1712143800@worc-pa.com
SUMMARY:Start Smart Orientation
DESCRIPTION:Register to attend the Start Smart orientation session. Attending orientation is required for enrollment in the Start Smart program.
URL:https://worc-pa.com/event/start-smart-orientation/2024-04-03/
LOCATION:Online via Zoom
CATEGORIES:Orientation
END:VEVENT
BEGIN:VEVENT
DTSTART;TZID=UTC:20240320T100000
DTEND;TZID=UTC:20240320T113000
DTSTAMP:20260420T024747
CREATED:20230830T130243Z
LAST-MODIFIED:20230830T130353Z
UID:10000014-1710928800-1710934200@worc-pa.com
SUMMARY:Start Smart Orientation
DESCRIPTION:Register to attend the Start Smart orientation session. Attending orientation is required for enrollment in the Start Smart program.
URL:https://worc-pa.com/event/start-smart-orientation/2024-03-20/
LOCATION:Online via Zoom
CATEGORIES:Orientation
END:VEVENT
BEGIN:VEVENT
DTSTART;TZID=UTC:20240306T100000
DTEND;TZID=UTC:20240306T113000
DTSTAMP:20260420T024747
CREATED:20230830T130243Z
LAST-MODIFIED:20230830T130353Z
UID:10000013-1709719200-1709724600@worc-pa.com
SUMMARY:Start Smart Orientation
DESCRIPTION:Register to attend the Start Smart orientation session. Attending orientation is required for enrollment in the Start Smart program.
URL:https://worc-pa.com/event/start-smart-orientation/2024-03-06/
LOCATION:Online via Zoom
CATEGORIES:Orientation
END:VEVENT
BEGIN:VEVENT
DTSTART;TZID=UTC:20240221T100000
DTEND;TZID=UTC:20240221T113000
DTSTAMP:20260420T024747
CREATED:20230830T130243Z
LAST-MODIFIED:20230830T130353Z
UID:10000012-1708509600-1708515000@worc-pa.com
SUMMARY:Start Smart Orientation
DESCRIPTION:Register to attend the Start Smart orientation session. Attending orientation is required for enrollment in the Start Smart program.
URL:https://worc-pa.com/event/start-smart-orientation/2024-02-21/
LOCATION:Online via Zoom
CATEGORIES:Orientation
END:VEVENT
BEGIN:VEVENT
DTSTART;TZID=UTC:20240207T100000
DTEND;TZID=UTC:20240207T113000
DTSTAMP:20260420T024747
CREATED:20230830T130243Z
LAST-MODIFIED:20230830T130353Z
UID:10000011-1707300000-1707305400@worc-pa.com
SUMMARY:Start Smart Orientation
DESCRIPTION:Register to attend the Start Smart orientation session. Attending orientation is required for enrollment in the Start Smart program.
URL:https://worc-pa.com/event/start-smart-orientation/2024-02-07/
LOCATION:Online via Zoom
CATEGORIES:Orientation
END:VEVENT
BEGIN:VEVENT
DTSTART;TZID=UTC:20240124T100000
DTEND;TZID=UTC:20240124T113000
DTSTAMP:20260420T024747
CREATED:20230830T130243Z
LAST-MODIFIED:20230830T130353Z
UID:10000010-1706090400-1706095800@worc-pa.com
SUMMARY:Start Smart Orientation
DESCRIPTION:Register to attend the Start Smart orientation session. Attending orientation is required for enrollment in the Start Smart program.
URL:https://worc-pa.com/event/start-smart-orientation/2024-01-24/
LOCATION:Online via Zoom
CATEGORIES:Orientation
END:VEVENT
BEGIN:VEVENT
DTSTART;TZID=UTC:20240110T100000
DTEND;TZID=UTC:20240110T113000
DTSTAMP:20260420T024747
CREATED:20230830T130243Z
LAST-MODIFIED:20230830T130353Z
UID:10000009-1704880800-1704886200@worc-pa.com
SUMMARY:Start Smart Orientation
DESCRIPTION:Register to attend the Start Smart orientation session. Attending orientation is required for enrollment in the Start Smart program.
URL:https://worc-pa.com/event/start-smart-orientation/2024-01-10/
LOCATION:Online via Zoom
CATEGORIES:Orientation
END:VEVENT
BEGIN:VEVENT
DTSTART;TZID=UTC:20231227T100000
DTEND;TZID=UTC:20231227T113000
DTSTAMP:20260420T024747
CREATED:20230830T130243Z
LAST-MODIFIED:20230830T130353Z
UID:10000008-1703671200-1703676600@worc-pa.com
SUMMARY:Start Smart Orientation
DESCRIPTION:Register to attend the Start Smart orientation session. Attending orientation is required for enrollment in the Start Smart program.
URL:https://worc-pa.com/event/start-smart-orientation/2023-12-27/
LOCATION:Online via Zoom
CATEGORIES:Orientation
END:VEVENT
BEGIN:VEVENT
DTSTART;TZID=UTC:20231213T100000
DTEND;TZID=UTC:20231213T113000
DTSTAMP:20260420T024747
CREATED:20230830T130243Z
LAST-MODIFIED:20230830T130353Z
UID:10000007-1702461600-1702467000@worc-pa.com
SUMMARY:Start Smart Orientation
DESCRIPTION:Register to attend the Start Smart orientation session. Attending orientation is required for enrollment in the Start Smart program.
URL:https://worc-pa.com/event/start-smart-orientation/2023-12-13/
LOCATION:Online via Zoom
CATEGORIES:Orientation
END:VEVENT
BEGIN:VEVENT
DTSTART;TZID=UTC:20231129T100000
DTEND;TZID=UTC:20231129T113000
DTSTAMP:20260420T024747
CREATED:20230830T130243Z
LAST-MODIFIED:20230830T130353Z
UID:10000006-1701252000-1701257400@worc-pa.com
SUMMARY:Start Smart Orientation
DESCRIPTION:Register to attend the Start Smart orientation session. Attending orientation is required for enrollment in the Start Smart program.
URL:https://worc-pa.com/event/start-smart-orientation/2023-11-29/
LOCATION:Online via Zoom
CATEGORIES:Orientation
END:VEVENT
BEGIN:VEVENT
DTSTART;TZID=UTC:20231115T100000
DTEND;TZID=UTC:20231115T113000
DTSTAMP:20260420T024747
CREATED:20230830T130243Z
LAST-MODIFIED:20230830T130353Z
UID:10000005-1700042400-1700047800@worc-pa.com
SUMMARY:Start Smart Orientation
DESCRIPTION:Register to attend the Start Smart orientation session. Attending orientation is required for enrollment in the Start Smart program.
URL:https://worc-pa.com/event/start-smart-orientation/2023-11-15/
LOCATION:Online via Zoom
CATEGORIES:Orientation
END:VEVENT
BEGIN:VEVENT
DTSTART;TZID=UTC:20231101T100000
DTEND;TZID=UTC:20231101T113000
DTSTAMP:20260420T024747
CREATED:20230830T130243Z
LAST-MODIFIED:20230830T130353Z
UID:10000004-1698832800-1698838200@worc-pa.com
SUMMARY:Start Smart Orientation
DESCRIPTION:Register to attend the Start Smart orientation session. Attending orientation is required for enrollment in the Start Smart program.
URL:https://worc-pa.com/event/start-smart-orientation/2023-11-01/
LOCATION:Online via Zoom
CATEGORIES:Orientation
END:VEVENT
BEGIN:VEVENT
DTSTART;TZID=UTC:20231018T100000
DTEND;TZID=UTC:20231018T113000
DTSTAMP:20260420T024747
CREATED:20230830T130243Z
LAST-MODIFIED:20230830T130353Z
UID:10000003-1697623200-1697628600@worc-pa.com
SUMMARY:Start Smart Orientation
DESCRIPTION:Register to attend the Start Smart orientation session. Attending orientation is required for enrollment in the Start Smart program.
URL:https://worc-pa.com/event/start-smart-orientation/2023-10-18/
LOCATION:Online via Zoom
CATEGORIES:Orientation
END:VEVENT
BEGIN:VEVENT
DTSTART;TZID=UTC:20231004T100000
DTEND;TZID=UTC:20231004T113000
DTSTAMP:20260420T024747
CREATED:20230830T130243Z
LAST-MODIFIED:20230830T130353Z
UID:10000002-1696413600-1696419000@worc-pa.com
SUMMARY:Start Smart Orientation
DESCRIPTION:Register to attend the Start Smart orientation session. Attending orientation is required for enrollment in the Start Smart program.
URL:https://worc-pa.com/event/start-smart-orientation/2023-10-04/
LOCATION:Online via Zoom
CATEGORIES:Orientation
END:VEVENT
BEGIN:VEVENT
DTSTART;TZID=UTC:20230920T100000
DTEND;TZID=UTC:20230920T113000
DTSTAMP:20260420T024747
CREATED:20230830T130243Z
LAST-MODIFIED:20230830T130353Z
UID:10000001-1695204000-1695209400@worc-pa.com
SUMMARY:Start Smart Orientation
DESCRIPTION:Register to attend the Start Smart orientation session. Attending orientation is required for enrollment in the Start Smart program.
URL:https://worc-pa.com/event/start-smart-orientation/2023-09-20/
LOCATION:Online via Zoom
CATEGORIES:Orientation
END:VEVENT
END:VCALENDAR