BEGIN:VCALENDAR
VERSION:2.0
PRODID:-//Women&#039;s Opportunities Resource Center - ECPv6.15.20//NONSGML v1.0//EN
CALSCALE:GREGORIAN
METHOD:PUBLISH
X-WR-CALNAME:Women&#039;s Opportunities Resource Center
X-ORIGINAL-URL:https://worc-pa.com
X-WR-CALDESC:Events for Women&#039;s Opportunities Resource Center
REFRESH-INTERVAL;VALUE=DURATION:PT1H
X-Robots-Tag:noindex
X-PUBLISHED-TTL:PT1H
BEGIN:VTIMEZONE
TZID:UTC
BEGIN:STANDARD
TZOFFSETFROM:+0000
TZOFFSETTO:+0000
TZNAME:UTC
DTSTART:20260101T000000
END:STANDARD
END:VTIMEZONE
BEGIN:VEVENT
DTSTART;TZID=UTC:20271110T100000
DTEND;TZID=UTC:20271110T113000
DTSTAMP:20260419T230429
CREATED:20230830T130243Z
LAST-MODIFIED:20230830T130353Z
UID:10000109-1825840800-1825846200@worc-pa.com
SUMMARY:Start Smart Orientation
DESCRIPTION:Register to attend the Start Smart orientation session. Attending orientation is required for enrollment in the Start Smart program.
URL:https://worc-pa.com/event/start-smart-orientation/2027-11-10/
LOCATION:Online via Zoom
CATEGORIES:Orientation
END:VEVENT
BEGIN:VEVENT
DTSTART;TZID=UTC:20271124T100000
DTEND;TZID=UTC:20271124T113000
DTSTAMP:20260419T230429
CREATED:20230830T130243Z
LAST-MODIFIED:20230830T130353Z
UID:10000110-1827050400-1827055800@worc-pa.com
SUMMARY:Start Smart Orientation
DESCRIPTION:Register to attend the Start Smart orientation session. Attending orientation is required for enrollment in the Start Smart program.
URL:https://worc-pa.com/event/start-smart-orientation/2027-11-24/
LOCATION:Online via Zoom
CATEGORIES:Orientation
END:VEVENT
BEGIN:VEVENT
DTSTART;TZID=UTC:20271208T100000
DTEND;TZID=UTC:20271208T113000
DTSTAMP:20260419T230429
CREATED:20230830T130243Z
LAST-MODIFIED:20230830T130353Z
UID:10000111-1828260000-1828265400@worc-pa.com
SUMMARY:Start Smart Orientation
DESCRIPTION:Register to attend the Start Smart orientation session. Attending orientation is required for enrollment in the Start Smart program.
URL:https://worc-pa.com/event/start-smart-orientation/2027-12-08/
LOCATION:Online via Zoom
CATEGORIES:Orientation
END:VEVENT
BEGIN:VEVENT
DTSTART;TZID=UTC:20271222T100000
DTEND;TZID=UTC:20271222T113000
DTSTAMP:20260419T230429
CREATED:20230830T130243Z
LAST-MODIFIED:20230830T130353Z
UID:10000112-1829469600-1829475000@worc-pa.com
SUMMARY:Start Smart Orientation
DESCRIPTION:Register to attend the Start Smart orientation session. Attending orientation is required for enrollment in the Start Smart program.
URL:https://worc-pa.com/event/start-smart-orientation/2027-12-22/
LOCATION:Online via Zoom
CATEGORIES:Orientation
END:VEVENT
BEGIN:VEVENT
DTSTART;TZID=UTC:20280105T100000
DTEND;TZID=UTC:20280105T113000
DTSTAMP:20260419T230429
CREATED:20230830T130243Z
LAST-MODIFIED:20230830T130353Z
UID:10000113-1830679200-1830684600@worc-pa.com
SUMMARY:Start Smart Orientation
DESCRIPTION:Register to attend the Start Smart orientation session. Attending orientation is required for enrollment in the Start Smart program.
URL:https://worc-pa.com/event/start-smart-orientation/2028-01-05/
LOCATION:Online via Zoom
CATEGORIES:Orientation
END:VEVENT
BEGIN:VEVENT
DTSTART;TZID=UTC:20280119T100000
DTEND;TZID=UTC:20280119T113000
DTSTAMP:20260419T230429
CREATED:20230830T130243Z
LAST-MODIFIED:20230830T130353Z
UID:10000114-1831888800-1831894200@worc-pa.com
SUMMARY:Start Smart Orientation
DESCRIPTION:Register to attend the Start Smart orientation session. Attending orientation is required for enrollment in the Start Smart program.
URL:https://worc-pa.com/event/start-smart-orientation/2028-01-19/
LOCATION:Online via Zoom
CATEGORIES:Orientation
END:VEVENT
BEGIN:VEVENT
DTSTART;TZID=UTC:20280202T100000
DTEND;TZID=UTC:20280202T113000
DTSTAMP:20260419T230429
CREATED:20230830T130243Z
LAST-MODIFIED:20230830T130353Z
UID:10000115-1833098400-1833103800@worc-pa.com
SUMMARY:Start Smart Orientation
DESCRIPTION:Register to attend the Start Smart orientation session. Attending orientation is required for enrollment in the Start Smart program.
URL:https://worc-pa.com/event/start-smart-orientation/2028-02-02/
LOCATION:Online via Zoom
CATEGORIES:Orientation
END:VEVENT
BEGIN:VEVENT
DTSTART;TZID=UTC:20280216T100000
DTEND;TZID=UTC:20280216T113000
DTSTAMP:20260419T230429
CREATED:20230830T130243Z
LAST-MODIFIED:20230830T130353Z
UID:10000116-1834308000-1834313400@worc-pa.com
SUMMARY:Start Smart Orientation
DESCRIPTION:Register to attend the Start Smart orientation session. Attending orientation is required for enrollment in the Start Smart program.
URL:https://worc-pa.com/event/start-smart-orientation/2028-02-16/
LOCATION:Online via Zoom
CATEGORIES:Orientation
END:VEVENT
BEGIN:VEVENT
DTSTART;TZID=UTC:20280301T100000
DTEND;TZID=UTC:20280301T113000
DTSTAMP:20260419T230429
CREATED:20230830T130243Z
LAST-MODIFIED:20230830T130353Z
UID:10000117-1835517600-1835523000@worc-pa.com
SUMMARY:Start Smart Orientation
DESCRIPTION:Register to attend the Start Smart orientation session. Attending orientation is required for enrollment in the Start Smart program.
URL:https://worc-pa.com/event/start-smart-orientation/2028-03-01/
LOCATION:Online via Zoom
CATEGORIES:Orientation
END:VEVENT
BEGIN:VEVENT
DTSTART;TZID=UTC:20280315T100000
DTEND;TZID=UTC:20280315T113000
DTSTAMP:20260419T230429
CREATED:20230830T130243Z
LAST-MODIFIED:20230830T130353Z
UID:10000118-1836727200-1836732600@worc-pa.com
SUMMARY:Start Smart Orientation
DESCRIPTION:Register to attend the Start Smart orientation session. Attending orientation is required for enrollment in the Start Smart program.
URL:https://worc-pa.com/event/start-smart-orientation/2028-03-15/
LOCATION:Online via Zoom
CATEGORIES:Orientation
END:VEVENT
BEGIN:VEVENT
DTSTART;TZID=UTC:20280329T100000
DTEND;TZID=UTC:20280329T113000
DTSTAMP:20260419T230429
CREATED:20230830T130243Z
LAST-MODIFIED:20230830T130353Z
UID:10000119-1837936800-1837942200@worc-pa.com
SUMMARY:Start Smart Orientation
DESCRIPTION:Register to attend the Start Smart orientation session. Attending orientation is required for enrollment in the Start Smart program.
URL:https://worc-pa.com/event/start-smart-orientation/2028-03-29/
LOCATION:Online via Zoom
CATEGORIES:Orientation
END:VEVENT
BEGIN:VEVENT
DTSTART;TZID=UTC:20280412T100000
DTEND;TZID=UTC:20280412T113000
DTSTAMP:20260419T230429
CREATED:20230830T130243Z
LAST-MODIFIED:20230830T130353Z
UID:10000120-1839146400-1839151800@worc-pa.com
SUMMARY:Start Smart Orientation
DESCRIPTION:Register to attend the Start Smart orientation session. Attending orientation is required for enrollment in the Start Smart program.
URL:https://worc-pa.com/event/start-smart-orientation/2028-04-12/
LOCATION:Online via Zoom
CATEGORIES:Orientation
END:VEVENT
BEGIN:VEVENT
DTSTART;TZID=UTC:20280426T100000
DTEND;TZID=UTC:20280426T113000
DTSTAMP:20260419T230429
CREATED:20230830T130243Z
LAST-MODIFIED:20230830T130353Z
UID:10000121-1840356000-1840361400@worc-pa.com
SUMMARY:Start Smart Orientation
DESCRIPTION:Register to attend the Start Smart orientation session. Attending orientation is required for enrollment in the Start Smart program.
URL:https://worc-pa.com/event/start-smart-orientation/2028-04-26/
LOCATION:Online via Zoom
CATEGORIES:Orientation
END:VEVENT
BEGIN:VEVENT
DTSTART;TZID=UTC:20280510T100000
DTEND;TZID=UTC:20280510T113000
DTSTAMP:20260419T230429
CREATED:20230830T130243Z
LAST-MODIFIED:20230830T130353Z
UID:10000122-1841565600-1841571000@worc-pa.com
SUMMARY:Start Smart Orientation
DESCRIPTION:Register to attend the Start Smart orientation session. Attending orientation is required for enrollment in the Start Smart program.
URL:https://worc-pa.com/event/start-smart-orientation/2028-05-10/
LOCATION:Online via Zoom
CATEGORIES:Orientation
END:VEVENT
BEGIN:VEVENT
DTSTART;TZID=UTC:20280524T100000
DTEND;TZID=UTC:20280524T113000
DTSTAMP:20260419T230429
CREATED:20230830T130243Z
LAST-MODIFIED:20230830T130353Z
UID:10000123-1842775200-1842780600@worc-pa.com
SUMMARY:Start Smart Orientation
DESCRIPTION:Register to attend the Start Smart orientation session. Attending orientation is required for enrollment in the Start Smart program.
URL:https://worc-pa.com/event/start-smart-orientation/2028-05-24/
LOCATION:Online via Zoom
CATEGORIES:Orientation
END:VEVENT
BEGIN:VEVENT
DTSTART;TZID=UTC:20280607T100000
DTEND;TZID=UTC:20280607T113000
DTSTAMP:20260419T230429
CREATED:20230830T130243Z
LAST-MODIFIED:20230830T130353Z
UID:10000124-1843984800-1843990200@worc-pa.com
SUMMARY:Start Smart Orientation
DESCRIPTION:Register to attend the Start Smart orientation session. Attending orientation is required for enrollment in the Start Smart program.
URL:https://worc-pa.com/event/start-smart-orientation/2028-06-07/
LOCATION:Online via Zoom
CATEGORIES:Orientation
END:VEVENT
BEGIN:VEVENT
DTSTART;TZID=UTC:20280621T100000
DTEND;TZID=UTC:20280621T113000
DTSTAMP:20260419T230429
CREATED:20230830T130243Z
LAST-MODIFIED:20230830T130353Z
UID:10000125-1845194400-1845199800@worc-pa.com
SUMMARY:Start Smart Orientation
DESCRIPTION:Register to attend the Start Smart orientation session. Attending orientation is required for enrollment in the Start Smart program.
URL:https://worc-pa.com/event/start-smart-orientation/2028-06-21/
LOCATION:Online via Zoom
CATEGORIES:Orientation
END:VEVENT
BEGIN:VEVENT
DTSTART;TZID=UTC:20280705T100000
DTEND;TZID=UTC:20280705T113000
DTSTAMP:20260419T230429
CREATED:20230830T130243Z
LAST-MODIFIED:20230830T130353Z
UID:10000126-1846404000-1846409400@worc-pa.com
SUMMARY:Start Smart Orientation
DESCRIPTION:Register to attend the Start Smart orientation session. Attending orientation is required for enrollment in the Start Smart program.
URL:https://worc-pa.com/event/start-smart-orientation/2028-07-05/
LOCATION:Online via Zoom
CATEGORIES:Orientation
END:VEVENT
BEGIN:VEVENT
DTSTART;TZID=UTC:20280719T100000
DTEND;TZID=UTC:20280719T113000
DTSTAMP:20260419T230429
CREATED:20230830T130243Z
LAST-MODIFIED:20230830T130353Z
UID:10000127-1847613600-1847619000@worc-pa.com
SUMMARY:Start Smart Orientation
DESCRIPTION:Register to attend the Start Smart orientation session. Attending orientation is required for enrollment in the Start Smart program.
URL:https://worc-pa.com/event/start-smart-orientation/2028-07-19/
LOCATION:Online via Zoom
CATEGORIES:Orientation
END:VEVENT
BEGIN:VEVENT
DTSTART;TZID=UTC:20280802T100000
DTEND;TZID=UTC:20280802T113000
DTSTAMP:20260419T230429
CREATED:20230830T130243Z
LAST-MODIFIED:20230830T130353Z
UID:10000128-1848823200-1848828600@worc-pa.com
SUMMARY:Start Smart Orientation
DESCRIPTION:Register to attend the Start Smart orientation session. Attending orientation is required for enrollment in the Start Smart program.
URL:https://worc-pa.com/event/start-smart-orientation/2028-08-02/
LOCATION:Online via Zoom
CATEGORIES:Orientation
END:VEVENT
BEGIN:VEVENT
DTSTART;TZID=UTC:20280816T100000
DTEND;TZID=UTC:20280816T113000
DTSTAMP:20260419T230429
CREATED:20230830T130243Z
LAST-MODIFIED:20230830T130353Z
UID:10000129-1850032800-1850038200@worc-pa.com
SUMMARY:Start Smart Orientation
DESCRIPTION:Register to attend the Start Smart orientation session. Attending orientation is required for enrollment in the Start Smart program.
URL:https://worc-pa.com/event/start-smart-orientation/2028-08-16/
LOCATION:Online via Zoom
CATEGORIES:Orientation
END:VEVENT
BEGIN:VEVENT
DTSTART;TZID=UTC:20280830T100000
DTEND;TZID=UTC:20280830T113000
DTSTAMP:20260419T230429
CREATED:20230830T130243Z
LAST-MODIFIED:20230830T130353Z
UID:10000130-1851242400-1851247800@worc-pa.com
SUMMARY:Start Smart Orientation
DESCRIPTION:Register to attend the Start Smart orientation session. Attending orientation is required for enrollment in the Start Smart program.
URL:https://worc-pa.com/event/start-smart-orientation/2028-08-30/
LOCATION:Online via Zoom
CATEGORIES:Orientation
END:VEVENT
END:VCALENDAR