BEGIN:VCALENDAR
VERSION:2.0
PRODID:-//Women&#039;s Opportunities Resource Center - ECPv6.15.20//NONSGML v1.0//EN
CALSCALE:GREGORIAN
METHOD:PUBLISH
X-ORIGINAL-URL:https://worc-pa.com
X-WR-CALDESC:Events for Women&#039;s Opportunities Resource Center
REFRESH-INTERVAL;VALUE=DURATION:PT1H
X-Robots-Tag:noindex
X-PUBLISHED-TTL:PT1H
BEGIN:VTIMEZONE
TZID:UTC
BEGIN:STANDARD
TZOFFSETFROM:+0000
TZOFFSETTO:+0000
TZNAME:UTC
DTSTART:20260101T000000
END:STANDARD
END:VTIMEZONE
BEGIN:VEVENT
DTSTART;TZID=UTC:20270203T100000
DTEND;TZID=UTC:20270203T113000
DTSTAMP:20260419T193232
CREATED:20230830T130243Z
LAST-MODIFIED:20230830T130353Z
UID:10000089-1801648800-1801654200@worc-pa.com
SUMMARY:Start Smart Orientation
DESCRIPTION:Register to attend the Start Smart orientation session. Attending orientation is required for enrollment in the Start Smart program.
URL:https://worc-pa.com/event/start-smart-orientation/2027-02-03/
LOCATION:Online via Zoom
CATEGORIES:Orientation
END:VEVENT
BEGIN:VEVENT
DTSTART;TZID=UTC:20270217T100000
DTEND;TZID=UTC:20270217T113000
DTSTAMP:20260419T193232
CREATED:20230830T130243Z
LAST-MODIFIED:20230830T130353Z
UID:10000090-1802858400-1802863800@worc-pa.com
SUMMARY:Start Smart Orientation
DESCRIPTION:Register to attend the Start Smart orientation session. Attending orientation is required for enrollment in the Start Smart program.
URL:https://worc-pa.com/event/start-smart-orientation/2027-02-17/
LOCATION:Online via Zoom
CATEGORIES:Orientation
END:VEVENT
BEGIN:VEVENT
DTSTART;TZID=UTC:20270303T100000
DTEND;TZID=UTC:20270303T113000
DTSTAMP:20260419T193232
CREATED:20230830T130243Z
LAST-MODIFIED:20230830T130353Z
UID:10000091-1804068000-1804073400@worc-pa.com
SUMMARY:Start Smart Orientation
DESCRIPTION:Register to attend the Start Smart orientation session. Attending orientation is required for enrollment in the Start Smart program.
URL:https://worc-pa.com/event/start-smart-orientation/2027-03-03/
LOCATION:Online via Zoom
CATEGORIES:Orientation
END:VEVENT
BEGIN:VEVENT
DTSTART;TZID=UTC:20270317T100000
DTEND;TZID=UTC:20270317T113000
DTSTAMP:20260419T193232
CREATED:20230830T130243Z
LAST-MODIFIED:20230830T130353Z
UID:10000092-1805277600-1805283000@worc-pa.com
SUMMARY:Start Smart Orientation
DESCRIPTION:Register to attend the Start Smart orientation session. Attending orientation is required for enrollment in the Start Smart program.
URL:https://worc-pa.com/event/start-smart-orientation/2027-03-17/
LOCATION:Online via Zoom
CATEGORIES:Orientation
END:VEVENT
BEGIN:VEVENT
DTSTART;TZID=UTC:20270331T100000
DTEND;TZID=UTC:20270331T113000
DTSTAMP:20260419T193232
CREATED:20230830T130243Z
LAST-MODIFIED:20230830T130353Z
UID:10000093-1806487200-1806492600@worc-pa.com
SUMMARY:Start Smart Orientation
DESCRIPTION:Register to attend the Start Smart orientation session. Attending orientation is required for enrollment in the Start Smart program.
URL:https://worc-pa.com/event/start-smart-orientation/2027-03-31/
LOCATION:Online via Zoom
CATEGORIES:Orientation
END:VEVENT
BEGIN:VEVENT
DTSTART;TZID=UTC:20270414T100000
DTEND;TZID=UTC:20270414T113000
DTSTAMP:20260419T193232
CREATED:20230830T130243Z
LAST-MODIFIED:20230830T130353Z
UID:10000094-1807696800-1807702200@worc-pa.com
SUMMARY:Start Smart Orientation
DESCRIPTION:Register to attend the Start Smart orientation session. Attending orientation is required for enrollment in the Start Smart program.
URL:https://worc-pa.com/event/start-smart-orientation/2027-04-14/
LOCATION:Online via Zoom
CATEGORIES:Orientation
END:VEVENT
BEGIN:VEVENT
DTSTART;TZID=UTC:20270428T100000
DTEND;TZID=UTC:20270428T113000
DTSTAMP:20260419T193232
CREATED:20230830T130243Z
LAST-MODIFIED:20230830T130353Z
UID:10000095-1808906400-1808911800@worc-pa.com
SUMMARY:Start Smart Orientation
DESCRIPTION:Register to attend the Start Smart orientation session. Attending orientation is required for enrollment in the Start Smart program.
URL:https://worc-pa.com/event/start-smart-orientation/2027-04-28/
LOCATION:Online via Zoom
CATEGORIES:Orientation
END:VEVENT
BEGIN:VEVENT
DTSTART;TZID=UTC:20270512T100000
DTEND;TZID=UTC:20270512T113000
DTSTAMP:20260419T193232
CREATED:20230830T130243Z
LAST-MODIFIED:20230830T130353Z
UID:10000096-1810116000-1810121400@worc-pa.com
SUMMARY:Start Smart Orientation
DESCRIPTION:Register to attend the Start Smart orientation session. Attending orientation is required for enrollment in the Start Smart program.
URL:https://worc-pa.com/event/start-smart-orientation/2027-05-12/
LOCATION:Online via Zoom
CATEGORIES:Orientation
END:VEVENT
BEGIN:VEVENT
DTSTART;TZID=UTC:20270526T100000
DTEND;TZID=UTC:20270526T113000
DTSTAMP:20260419T193232
CREATED:20230830T130243Z
LAST-MODIFIED:20230830T130353Z
UID:10000097-1811325600-1811331000@worc-pa.com
SUMMARY:Start Smart Orientation
DESCRIPTION:Register to attend the Start Smart orientation session. Attending orientation is required for enrollment in the Start Smart program.
URL:https://worc-pa.com/event/start-smart-orientation/2027-05-26/
LOCATION:Online via Zoom
CATEGORIES:Orientation
END:VEVENT
BEGIN:VEVENT
DTSTART;TZID=UTC:20270609T100000
DTEND;TZID=UTC:20270609T113000
DTSTAMP:20260419T193232
CREATED:20230830T130243Z
LAST-MODIFIED:20230830T130353Z
UID:10000098-1812535200-1812540600@worc-pa.com
SUMMARY:Start Smart Orientation
DESCRIPTION:Register to attend the Start Smart orientation session. Attending orientation is required for enrollment in the Start Smart program.
URL:https://worc-pa.com/event/start-smart-orientation/2027-06-09/
LOCATION:Online via Zoom
CATEGORIES:Orientation
END:VEVENT
BEGIN:VEVENT
DTSTART;TZID=UTC:20270623T100000
DTEND;TZID=UTC:20270623T113000
DTSTAMP:20260419T193232
CREATED:20230830T130243Z
LAST-MODIFIED:20230830T130353Z
UID:10000099-1813744800-1813750200@worc-pa.com
SUMMARY:Start Smart Orientation
DESCRIPTION:Register to attend the Start Smart orientation session. Attending orientation is required for enrollment in the Start Smart program.
URL:https://worc-pa.com/event/start-smart-orientation/2027-06-23/
LOCATION:Online via Zoom
CATEGORIES:Orientation
END:VEVENT
BEGIN:VEVENT
DTSTART;TZID=UTC:20270707T100000
DTEND;TZID=UTC:20270707T113000
DTSTAMP:20260419T193232
CREATED:20230830T130243Z
LAST-MODIFIED:20230830T130353Z
UID:10000100-1814954400-1814959800@worc-pa.com
SUMMARY:Start Smart Orientation
DESCRIPTION:Register to attend the Start Smart orientation session. Attending orientation is required for enrollment in the Start Smart program.
URL:https://worc-pa.com/event/start-smart-orientation/2027-07-07/
LOCATION:Online via Zoom
CATEGORIES:Orientation
END:VEVENT
BEGIN:VEVENT
DTSTART;TZID=UTC:20270721T100000
DTEND;TZID=UTC:20270721T113000
DTSTAMP:20260419T193232
CREATED:20230830T130243Z
LAST-MODIFIED:20230830T130353Z
UID:10000101-1816164000-1816169400@worc-pa.com
SUMMARY:Start Smart Orientation
DESCRIPTION:Register to attend the Start Smart orientation session. Attending orientation is required for enrollment in the Start Smart program.
URL:https://worc-pa.com/event/start-smart-orientation/2027-07-21/
LOCATION:Online via Zoom
CATEGORIES:Orientation
END:VEVENT
BEGIN:VEVENT
DTSTART;TZID=UTC:20270804T100000
DTEND;TZID=UTC:20270804T113000
DTSTAMP:20260419T193232
CREATED:20230830T130243Z
LAST-MODIFIED:20230830T130353Z
UID:10000102-1817373600-1817379000@worc-pa.com
SUMMARY:Start Smart Orientation
DESCRIPTION:Register to attend the Start Smart orientation session. Attending orientation is required for enrollment in the Start Smart program.
URL:https://worc-pa.com/event/start-smart-orientation/2027-08-04/
LOCATION:Online via Zoom
CATEGORIES:Orientation
END:VEVENT
BEGIN:VEVENT
DTSTART;TZID=UTC:20270818T100000
DTEND;TZID=UTC:20270818T113000
DTSTAMP:20260419T193232
CREATED:20230830T130243Z
LAST-MODIFIED:20230830T130353Z
UID:10000103-1818583200-1818588600@worc-pa.com
SUMMARY:Start Smart Orientation
DESCRIPTION:Register to attend the Start Smart orientation session. Attending orientation is required for enrollment in the Start Smart program.
URL:https://worc-pa.com/event/start-smart-orientation/2027-08-18/
LOCATION:Online via Zoom
CATEGORIES:Orientation
END:VEVENT
BEGIN:VEVENT
DTSTART;TZID=UTC:20270901T100000
DTEND;TZID=UTC:20270901T113000
DTSTAMP:20260419T193232
CREATED:20230830T130243Z
LAST-MODIFIED:20230830T130353Z
UID:10000104-1819792800-1819798200@worc-pa.com
SUMMARY:Start Smart Orientation
DESCRIPTION:Register to attend the Start Smart orientation session. Attending orientation is required for enrollment in the Start Smart program.
URL:https://worc-pa.com/event/start-smart-orientation/2027-09-01/
LOCATION:Online via Zoom
CATEGORIES:Orientation
END:VEVENT
BEGIN:VEVENT
DTSTART;TZID=UTC:20270915T100000
DTEND;TZID=UTC:20270915T113000
DTSTAMP:20260419T193232
CREATED:20230830T130243Z
LAST-MODIFIED:20230830T130353Z
UID:10000105-1821002400-1821007800@worc-pa.com
SUMMARY:Start Smart Orientation
DESCRIPTION:Register to attend the Start Smart orientation session. Attending orientation is required for enrollment in the Start Smart program.
URL:https://worc-pa.com/event/start-smart-orientation/2027-09-15/
LOCATION:Online via Zoom
CATEGORIES:Orientation
END:VEVENT
BEGIN:VEVENT
DTSTART;TZID=UTC:20270929T100000
DTEND;TZID=UTC:20270929T113000
DTSTAMP:20260419T193232
CREATED:20230830T130243Z
LAST-MODIFIED:20230830T130353Z
UID:10000106-1822212000-1822217400@worc-pa.com
SUMMARY:Start Smart Orientation
DESCRIPTION:Register to attend the Start Smart orientation session. Attending orientation is required for enrollment in the Start Smart program.
URL:https://worc-pa.com/event/start-smart-orientation/2027-09-29/
LOCATION:Online via Zoom
CATEGORIES:Orientation
END:VEVENT
BEGIN:VEVENT
DTSTART;TZID=UTC:20271013T100000
DTEND;TZID=UTC:20271013T113000
DTSTAMP:20260419T193232
CREATED:20230830T130243Z
LAST-MODIFIED:20230830T130353Z
UID:10000107-1823421600-1823427000@worc-pa.com
SUMMARY:Start Smart Orientation
DESCRIPTION:Register to attend the Start Smart orientation session. Attending orientation is required for enrollment in the Start Smart program.
URL:https://worc-pa.com/event/start-smart-orientation/2027-10-13/
LOCATION:Online via Zoom
CATEGORIES:Orientation
END:VEVENT
BEGIN:VEVENT
DTSTART;TZID=UTC:20271027T100000
DTEND;TZID=UTC:20271027T113000
DTSTAMP:20260419T193232
CREATED:20230830T130243Z
LAST-MODIFIED:20230830T130353Z
UID:10000108-1824631200-1824636600@worc-pa.com
SUMMARY:Start Smart Orientation
DESCRIPTION:Register to attend the Start Smart orientation session. Attending orientation is required for enrollment in the Start Smart program.
URL:https://worc-pa.com/event/start-smart-orientation/2027-10-27/
LOCATION:Online via Zoom
CATEGORIES:Orientation
END:VEVENT
BEGIN:VEVENT
DTSTART;TZID=UTC:20271110T100000
DTEND;TZID=UTC:20271110T113000
DTSTAMP:20260419T193232
CREATED:20230830T130243Z
LAST-MODIFIED:20230830T130353Z
UID:10000109-1825840800-1825846200@worc-pa.com
SUMMARY:Start Smart Orientation
DESCRIPTION:Register to attend the Start Smart orientation session. Attending orientation is required for enrollment in the Start Smart program.
URL:https://worc-pa.com/event/start-smart-orientation/2027-11-10/
LOCATION:Online via Zoom
CATEGORIES:Orientation
END:VEVENT
BEGIN:VEVENT
DTSTART;TZID=UTC:20271124T100000
DTEND;TZID=UTC:20271124T113000
DTSTAMP:20260419T193232
CREATED:20230830T130243Z
LAST-MODIFIED:20230830T130353Z
UID:10000110-1827050400-1827055800@worc-pa.com
SUMMARY:Start Smart Orientation
DESCRIPTION:Register to attend the Start Smart orientation session. Attending orientation is required for enrollment in the Start Smart program.
URL:https://worc-pa.com/event/start-smart-orientation/2027-11-24/
LOCATION:Online via Zoom
CATEGORIES:Orientation
END:VEVENT
BEGIN:VEVENT
DTSTART;TZID=UTC:20271208T100000
DTEND;TZID=UTC:20271208T113000
DTSTAMP:20260419T193233
CREATED:20230830T130243Z
LAST-MODIFIED:20230830T130353Z
UID:10000111-1828260000-1828265400@worc-pa.com
SUMMARY:Start Smart Orientation
DESCRIPTION:Register to attend the Start Smart orientation session. Attending orientation is required for enrollment in the Start Smart program.
URL:https://worc-pa.com/event/start-smart-orientation/2027-12-08/
LOCATION:Online via Zoom
CATEGORIES:Orientation
END:VEVENT
BEGIN:VEVENT
DTSTART;TZID=UTC:20271222T100000
DTEND;TZID=UTC:20271222T113000
DTSTAMP:20260419T193233
CREATED:20230830T130243Z
LAST-MODIFIED:20230830T130353Z
UID:10000112-1829469600-1829475000@worc-pa.com
SUMMARY:Start Smart Orientation
DESCRIPTION:Register to attend the Start Smart orientation session. Attending orientation is required for enrollment in the Start Smart program.
URL:https://worc-pa.com/event/start-smart-orientation/2027-12-22/
LOCATION:Online via Zoom
CATEGORIES:Orientation
END:VEVENT
BEGIN:VEVENT
DTSTART;TZID=UTC:20280105T100000
DTEND;TZID=UTC:20280105T113000
DTSTAMP:20260419T193233
CREATED:20230830T130243Z
LAST-MODIFIED:20230830T130353Z
UID:10000113-1830679200-1830684600@worc-pa.com
SUMMARY:Start Smart Orientation
DESCRIPTION:Register to attend the Start Smart orientation session. Attending orientation is required for enrollment in the Start Smart program.
URL:https://worc-pa.com/event/start-smart-orientation/2028-01-05/
LOCATION:Online via Zoom
CATEGORIES:Orientation
END:VEVENT
BEGIN:VEVENT
DTSTART;TZID=UTC:20280119T100000
DTEND;TZID=UTC:20280119T113000
DTSTAMP:20260419T193233
CREATED:20230830T130243Z
LAST-MODIFIED:20230830T130353Z
UID:10000114-1831888800-1831894200@worc-pa.com
SUMMARY:Start Smart Orientation
DESCRIPTION:Register to attend the Start Smart orientation session. Attending orientation is required for enrollment in the Start Smart program.
URL:https://worc-pa.com/event/start-smart-orientation/2028-01-19/
LOCATION:Online via Zoom
CATEGORIES:Orientation
END:VEVENT
BEGIN:VEVENT
DTSTART;TZID=UTC:20280202T100000
DTEND;TZID=UTC:20280202T113000
DTSTAMP:20260419T193233
CREATED:20230830T130243Z
LAST-MODIFIED:20230830T130353Z
UID:10000115-1833098400-1833103800@worc-pa.com
SUMMARY:Start Smart Orientation
DESCRIPTION:Register to attend the Start Smart orientation session. Attending orientation is required for enrollment in the Start Smart program.
URL:https://worc-pa.com/event/start-smart-orientation/2028-02-02/
LOCATION:Online via Zoom
CATEGORIES:Orientation
END:VEVENT
BEGIN:VEVENT
DTSTART;TZID=UTC:20280216T100000
DTEND;TZID=UTC:20280216T113000
DTSTAMP:20260419T193233
CREATED:20230830T130243Z
LAST-MODIFIED:20230830T130353Z
UID:10000116-1834308000-1834313400@worc-pa.com
SUMMARY:Start Smart Orientation
DESCRIPTION:Register to attend the Start Smart orientation session. Attending orientation is required for enrollment in the Start Smart program.
URL:https://worc-pa.com/event/start-smart-orientation/2028-02-16/
LOCATION:Online via Zoom
CATEGORIES:Orientation
END:VEVENT
BEGIN:VEVENT
DTSTART;TZID=UTC:20280301T100000
DTEND;TZID=UTC:20280301T113000
DTSTAMP:20260419T193233
CREATED:20230830T130243Z
LAST-MODIFIED:20230830T130353Z
UID:10000117-1835517600-1835523000@worc-pa.com
SUMMARY:Start Smart Orientation
DESCRIPTION:Register to attend the Start Smart orientation session. Attending orientation is required for enrollment in the Start Smart program.
URL:https://worc-pa.com/event/start-smart-orientation/2028-03-01/
LOCATION:Online via Zoom
CATEGORIES:Orientation
END:VEVENT
BEGIN:VEVENT
DTSTART;TZID=UTC:20280315T100000
DTEND;TZID=UTC:20280315T113000
DTSTAMP:20260419T193233
CREATED:20230830T130243Z
LAST-MODIFIED:20230830T130353Z
UID:10000118-1836727200-1836732600@worc-pa.com
SUMMARY:Start Smart Orientation
DESCRIPTION:Register to attend the Start Smart orientation session. Attending orientation is required for enrollment in the Start Smart program.
URL:https://worc-pa.com/event/start-smart-orientation/2028-03-15/
LOCATION:Online via Zoom
CATEGORIES:Orientation
END:VEVENT
END:VCALENDAR