BEGIN:VCALENDAR
VERSION:2.0
PRODID:-//Women&#039;s Opportunities Resource Center - ECPv6.15.20//NONSGML v1.0//EN
CALSCALE:GREGORIAN
METHOD:PUBLISH
X-WR-CALNAME:Women&#039;s Opportunities Resource Center
X-ORIGINAL-URL:https://worc-pa.com
X-WR-CALDESC:Events for Women&#039;s Opportunities Resource Center
REFRESH-INTERVAL;VALUE=DURATION:PT1H
X-Robots-Tag:noindex
X-PUBLISHED-TTL:PT1H
BEGIN:VTIMEZONE
TZID:UTC
BEGIN:STANDARD
TZOFFSETFROM:+0000
TZOFFSETTO:+0000
TZNAME:UTC
DTSTART:20230101T000000
END:STANDARD
END:VTIMEZONE
BEGIN:VEVENT
DTSTART;TZID=UTC:20251126T100000
DTEND;TZID=UTC:20251126T113000
DTSTAMP:20260419T193231
CREATED:20230830T130243Z
LAST-MODIFIED:20230830T130353Z
UID:10000058-1764151200-1764156600@worc-pa.com
SUMMARY:Start Smart Orientation
DESCRIPTION:Register to attend the Start Smart orientation session. Attending orientation is required for enrollment in the Start Smart program.
URL:https://worc-pa.com/event/start-smart-orientation/2025-11-26/
LOCATION:Online via Zoom
CATEGORIES:Orientation
END:VEVENT
BEGIN:VEVENT
DTSTART;TZID=UTC:20251112T100000
DTEND;TZID=UTC:20251112T113000
DTSTAMP:20260419T193231
CREATED:20230830T130243Z
LAST-MODIFIED:20230830T130353Z
UID:10000057-1762941600-1762947000@worc-pa.com
SUMMARY:Start Smart Orientation
DESCRIPTION:Register to attend the Start Smart orientation session. Attending orientation is required for enrollment in the Start Smart program.
URL:https://worc-pa.com/event/start-smart-orientation/2025-11-12/
LOCATION:Online via Zoom
CATEGORIES:Orientation
END:VEVENT
BEGIN:VEVENT
DTSTART;TZID=UTC:20251029T100000
DTEND;TZID=UTC:20251029T113000
DTSTAMP:20260419T193231
CREATED:20230830T130243Z
LAST-MODIFIED:20230830T130353Z
UID:10000056-1761732000-1761737400@worc-pa.com
SUMMARY:Start Smart Orientation
DESCRIPTION:Register to attend the Start Smart orientation session. Attending orientation is required for enrollment in the Start Smart program.
URL:https://worc-pa.com/event/start-smart-orientation/2025-10-29/
LOCATION:Online via Zoom
CATEGORIES:Orientation
END:VEVENT
BEGIN:VEVENT
DTSTART;TZID=UTC:20251015T100000
DTEND;TZID=UTC:20251015T113000
DTSTAMP:20260419T193231
CREATED:20230830T130243Z
LAST-MODIFIED:20230830T130353Z
UID:10000055-1760522400-1760527800@worc-pa.com
SUMMARY:Start Smart Orientation
DESCRIPTION:Register to attend the Start Smart orientation session. Attending orientation is required for enrollment in the Start Smart program.
URL:https://worc-pa.com/event/start-smart-orientation/2025-10-15/
LOCATION:Online via Zoom
CATEGORIES:Orientation
END:VEVENT
BEGIN:VEVENT
DTSTART;TZID=UTC:20251001T100000
DTEND;TZID=UTC:20251001T113000
DTSTAMP:20260419T193231
CREATED:20230830T130243Z
LAST-MODIFIED:20230830T130353Z
UID:10000054-1759312800-1759318200@worc-pa.com
SUMMARY:Start Smart Orientation
DESCRIPTION:Register to attend the Start Smart orientation session. Attending orientation is required for enrollment in the Start Smart program.
URL:https://worc-pa.com/event/start-smart-orientation/2025-10-01/
LOCATION:Online via Zoom
CATEGORIES:Orientation
END:VEVENT
BEGIN:VEVENT
DTSTART;TZID=UTC:20250917T100000
DTEND;TZID=UTC:20250917T113000
DTSTAMP:20260419T193231
CREATED:20230830T130243Z
LAST-MODIFIED:20230830T130353Z
UID:10000053-1758103200-1758108600@worc-pa.com
SUMMARY:Start Smart Orientation
DESCRIPTION:Register to attend the Start Smart orientation session. Attending orientation is required for enrollment in the Start Smart program.
URL:https://worc-pa.com/event/start-smart-orientation/2025-09-17/
LOCATION:Online via Zoom
CATEGORIES:Orientation
END:VEVENT
BEGIN:VEVENT
DTSTART;TZID=UTC:20250903T100000
DTEND;TZID=UTC:20250903T113000
DTSTAMP:20260419T193231
CREATED:20230830T130243Z
LAST-MODIFIED:20230830T130353Z
UID:10000052-1756893600-1756899000@worc-pa.com
SUMMARY:Start Smart Orientation
DESCRIPTION:Register to attend the Start Smart orientation session. Attending orientation is required for enrollment in the Start Smart program.
URL:https://worc-pa.com/event/start-smart-orientation/2025-09-03/
LOCATION:Online via Zoom
CATEGORIES:Orientation
END:VEVENT
BEGIN:VEVENT
DTSTART;TZID=UTC:20250820T100000
DTEND;TZID=UTC:20250820T113000
DTSTAMP:20260419T193231
CREATED:20230830T130243Z
LAST-MODIFIED:20230830T130353Z
UID:10000051-1755684000-1755689400@worc-pa.com
SUMMARY:Start Smart Orientation
DESCRIPTION:Register to attend the Start Smart orientation session. Attending orientation is required for enrollment in the Start Smart program.
URL:https://worc-pa.com/event/start-smart-orientation/2025-08-20/
LOCATION:Online via Zoom
CATEGORIES:Orientation
END:VEVENT
BEGIN:VEVENT
DTSTART;TZID=UTC:20250806T100000
DTEND;TZID=UTC:20250806T113000
DTSTAMP:20260419T193231
CREATED:20230830T130243Z
LAST-MODIFIED:20230830T130353Z
UID:10000050-1754474400-1754479800@worc-pa.com
SUMMARY:Start Smart Orientation
DESCRIPTION:Register to attend the Start Smart orientation session. Attending orientation is required for enrollment in the Start Smart program.
URL:https://worc-pa.com/event/start-smart-orientation/2025-08-06/
LOCATION:Online via Zoom
CATEGORIES:Orientation
END:VEVENT
BEGIN:VEVENT
DTSTART;TZID=UTC:20250723T100000
DTEND;TZID=UTC:20250723T113000
DTSTAMP:20260419T193231
CREATED:20230830T130243Z
LAST-MODIFIED:20230830T130353Z
UID:10000049-1753264800-1753270200@worc-pa.com
SUMMARY:Start Smart Orientation
DESCRIPTION:Register to attend the Start Smart orientation session. Attending orientation is required for enrollment in the Start Smart program.
URL:https://worc-pa.com/event/start-smart-orientation/2025-07-23/
LOCATION:Online via Zoom
CATEGORIES:Orientation
END:VEVENT
BEGIN:VEVENT
DTSTART;TZID=UTC:20250709T100000
DTEND;TZID=UTC:20250709T113000
DTSTAMP:20260419T193231
CREATED:20230830T130243Z
LAST-MODIFIED:20230830T130353Z
UID:10000048-1752055200-1752060600@worc-pa.com
SUMMARY:Start Smart Orientation
DESCRIPTION:Register to attend the Start Smart orientation session. Attending orientation is required for enrollment in the Start Smart program.
URL:https://worc-pa.com/event/start-smart-orientation/2025-07-09/
LOCATION:Online via Zoom
CATEGORIES:Orientation
END:VEVENT
BEGIN:VEVENT
DTSTART;TZID=UTC:20250625T100000
DTEND;TZID=UTC:20250625T113000
DTSTAMP:20260419T193231
CREATED:20230830T130243Z
LAST-MODIFIED:20230830T130353Z
UID:10000047-1750845600-1750851000@worc-pa.com
SUMMARY:Start Smart Orientation
DESCRIPTION:Register to attend the Start Smart orientation session. Attending orientation is required for enrollment in the Start Smart program.
URL:https://worc-pa.com/event/start-smart-orientation/2025-06-25/
LOCATION:Online via Zoom
CATEGORIES:Orientation
END:VEVENT
BEGIN:VEVENT
DTSTART;TZID=UTC:20250611T100000
DTEND;TZID=UTC:20250611T113000
DTSTAMP:20260419T193231
CREATED:20230830T130243Z
LAST-MODIFIED:20230830T130353Z
UID:10000046-1749636000-1749641400@worc-pa.com
SUMMARY:Start Smart Orientation
DESCRIPTION:Register to attend the Start Smart orientation session. Attending orientation is required for enrollment in the Start Smart program.
URL:https://worc-pa.com/event/start-smart-orientation/2025-06-11/
LOCATION:Online via Zoom
CATEGORIES:Orientation
END:VEVENT
BEGIN:VEVENT
DTSTART;TZID=UTC:20250528T100000
DTEND;TZID=UTC:20250528T113000
DTSTAMP:20260419T193231
CREATED:20230830T130243Z
LAST-MODIFIED:20230830T130353Z
UID:10000045-1748426400-1748431800@worc-pa.com
SUMMARY:Start Smart Orientation
DESCRIPTION:Register to attend the Start Smart orientation session. Attending orientation is required for enrollment in the Start Smart program.
URL:https://worc-pa.com/event/start-smart-orientation/2025-05-28/
LOCATION:Online via Zoom
CATEGORIES:Orientation
END:VEVENT
BEGIN:VEVENT
DTSTART;TZID=UTC:20250514T100000
DTEND;TZID=UTC:20250514T113000
DTSTAMP:20260419T193231
CREATED:20230830T130243Z
LAST-MODIFIED:20230830T130353Z
UID:10000044-1747216800-1747222200@worc-pa.com
SUMMARY:Start Smart Orientation
DESCRIPTION:Register to attend the Start Smart orientation session. Attending orientation is required for enrollment in the Start Smart program.
URL:https://worc-pa.com/event/start-smart-orientation/2025-05-14/
LOCATION:Online via Zoom
CATEGORIES:Orientation
END:VEVENT
BEGIN:VEVENT
DTSTART;TZID=UTC:20250430T100000
DTEND;TZID=UTC:20250430T113000
DTSTAMP:20260419T193231
CREATED:20230830T130243Z
LAST-MODIFIED:20230830T130353Z
UID:10000043-1746007200-1746012600@worc-pa.com
SUMMARY:Start Smart Orientation
DESCRIPTION:Register to attend the Start Smart orientation session. Attending orientation is required for enrollment in the Start Smart program.
URL:https://worc-pa.com/event/start-smart-orientation/2025-04-30/
LOCATION:Online via Zoom
CATEGORIES:Orientation
END:VEVENT
BEGIN:VEVENT
DTSTART;TZID=UTC:20250416T100000
DTEND;TZID=UTC:20250416T113000
DTSTAMP:20260419T193231
CREATED:20230830T130243Z
LAST-MODIFIED:20230830T130353Z
UID:10000042-1744797600-1744803000@worc-pa.com
SUMMARY:Start Smart Orientation
DESCRIPTION:Register to attend the Start Smart orientation session. Attending orientation is required for enrollment in the Start Smart program.
URL:https://worc-pa.com/event/start-smart-orientation/2025-04-16/
LOCATION:Online via Zoom
CATEGORIES:Orientation
END:VEVENT
BEGIN:VEVENT
DTSTART;TZID=UTC:20250402T100000
DTEND;TZID=UTC:20250402T113000
DTSTAMP:20260419T193231
CREATED:20230830T130243Z
LAST-MODIFIED:20230830T130353Z
UID:10000041-1743588000-1743593400@worc-pa.com
SUMMARY:Start Smart Orientation
DESCRIPTION:Register to attend the Start Smart orientation session. Attending orientation is required for enrollment in the Start Smart program.
URL:https://worc-pa.com/event/start-smart-orientation/2025-04-02/
LOCATION:Online via Zoom
CATEGORIES:Orientation
END:VEVENT
BEGIN:VEVENT
DTSTART;TZID=UTC:20250319T100000
DTEND;TZID=UTC:20250319T113000
DTSTAMP:20260419T193231
CREATED:20230830T130243Z
LAST-MODIFIED:20230830T130353Z
UID:10000040-1742378400-1742383800@worc-pa.com
SUMMARY:Start Smart Orientation
DESCRIPTION:Register to attend the Start Smart orientation session. Attending orientation is required for enrollment in the Start Smart program.
URL:https://worc-pa.com/event/start-smart-orientation/2025-03-19/
LOCATION:Online via Zoom
CATEGORIES:Orientation
END:VEVENT
BEGIN:VEVENT
DTSTART;TZID=UTC:20250305T100000
DTEND;TZID=UTC:20250305T113000
DTSTAMP:20260419T193231
CREATED:20230830T130243Z
LAST-MODIFIED:20230830T130353Z
UID:10000039-1741168800-1741174200@worc-pa.com
SUMMARY:Start Smart Orientation
DESCRIPTION:Register to attend the Start Smart orientation session. Attending orientation is required for enrollment in the Start Smart program.
URL:https://worc-pa.com/event/start-smart-orientation/2025-03-05/
LOCATION:Online via Zoom
CATEGORIES:Orientation
END:VEVENT
BEGIN:VEVENT
DTSTART;TZID=UTC:20250219T100000
DTEND;TZID=UTC:20250219T113000
DTSTAMP:20260419T193231
CREATED:20230830T130243Z
LAST-MODIFIED:20230830T130353Z
UID:10000038-1739959200-1739964600@worc-pa.com
SUMMARY:Start Smart Orientation
DESCRIPTION:Register to attend the Start Smart orientation session. Attending orientation is required for enrollment in the Start Smart program.
URL:https://worc-pa.com/event/start-smart-orientation/2025-02-19/
LOCATION:Online via Zoom
CATEGORIES:Orientation
END:VEVENT
BEGIN:VEVENT
DTSTART;TZID=UTC:20250205T100000
DTEND;TZID=UTC:20250205T113000
DTSTAMP:20260419T193231
CREATED:20230830T130243Z
LAST-MODIFIED:20230830T130353Z
UID:10000037-1738749600-1738755000@worc-pa.com
SUMMARY:Start Smart Orientation
DESCRIPTION:Register to attend the Start Smart orientation session. Attending orientation is required for enrollment in the Start Smart program.
URL:https://worc-pa.com/event/start-smart-orientation/2025-02-05/
LOCATION:Online via Zoom
CATEGORIES:Orientation
END:VEVENT
BEGIN:VEVENT
DTSTART;TZID=UTC:20250122T100000
DTEND;TZID=UTC:20250122T113000
DTSTAMP:20260419T193231
CREATED:20230830T130243Z
LAST-MODIFIED:20230830T130353Z
UID:10000036-1737540000-1737545400@worc-pa.com
SUMMARY:Start Smart Orientation
DESCRIPTION:Register to attend the Start Smart orientation session. Attending orientation is required for enrollment in the Start Smart program.
URL:https://worc-pa.com/event/start-smart-orientation/2025-01-22/
LOCATION:Online via Zoom
CATEGORIES:Orientation
END:VEVENT
BEGIN:VEVENT
DTSTART;TZID=UTC:20250108T100000
DTEND;TZID=UTC:20250108T113000
DTSTAMP:20260419T193231
CREATED:20230830T130243Z
LAST-MODIFIED:20230830T130353Z
UID:10000035-1736330400-1736335800@worc-pa.com
SUMMARY:Start Smart Orientation
DESCRIPTION:Register to attend the Start Smart orientation session. Attending orientation is required for enrollment in the Start Smart program.
URL:https://worc-pa.com/event/start-smart-orientation/2025-01-08/
LOCATION:Online via Zoom
CATEGORIES:Orientation
END:VEVENT
BEGIN:VEVENT
DTSTART;TZID=UTC:20241225T100000
DTEND;TZID=UTC:20241225T113000
DTSTAMP:20260419T193231
CREATED:20230830T130243Z
LAST-MODIFIED:20230830T130353Z
UID:10000034-1735120800-1735126200@worc-pa.com
SUMMARY:Start Smart Orientation
DESCRIPTION:Register to attend the Start Smart orientation session. Attending orientation is required for enrollment in the Start Smart program.
URL:https://worc-pa.com/event/start-smart-orientation/2024-12-25/
LOCATION:Online via Zoom
CATEGORIES:Orientation
END:VEVENT
BEGIN:VEVENT
DTSTART;TZID=UTC:20241211T100000
DTEND;TZID=UTC:20241211T113000
DTSTAMP:20260419T193231
CREATED:20230830T130243Z
LAST-MODIFIED:20230830T130353Z
UID:10000033-1733911200-1733916600@worc-pa.com
SUMMARY:Start Smart Orientation
DESCRIPTION:Register to attend the Start Smart orientation session. Attending orientation is required for enrollment in the Start Smart program.
URL:https://worc-pa.com/event/start-smart-orientation/2024-12-11/
LOCATION:Online via Zoom
CATEGORIES:Orientation
END:VEVENT
BEGIN:VEVENT
DTSTART;TZID=UTC:20241127T100000
DTEND;TZID=UTC:20241127T113000
DTSTAMP:20260419T193231
CREATED:20230830T130243Z
LAST-MODIFIED:20230830T130353Z
UID:10000032-1732701600-1732707000@worc-pa.com
SUMMARY:Start Smart Orientation
DESCRIPTION:Register to attend the Start Smart orientation session. Attending orientation is required for enrollment in the Start Smart program.
URL:https://worc-pa.com/event/start-smart-orientation/2024-11-27/
LOCATION:Online via Zoom
CATEGORIES:Orientation
END:VEVENT
BEGIN:VEVENT
DTSTART;TZID=UTC:20241113T100000
DTEND;TZID=UTC:20241113T113000
DTSTAMP:20260419T193231
CREATED:20230830T130243Z
LAST-MODIFIED:20230830T130353Z
UID:10000031-1731492000-1731497400@worc-pa.com
SUMMARY:Start Smart Orientation
DESCRIPTION:Register to attend the Start Smart orientation session. Attending orientation is required for enrollment in the Start Smart program.
URL:https://worc-pa.com/event/start-smart-orientation/2024-11-13/
LOCATION:Online via Zoom
CATEGORIES:Orientation
END:VEVENT
BEGIN:VEVENT
DTSTART;TZID=UTC:20241030T100000
DTEND;TZID=UTC:20241030T113000
DTSTAMP:20260419T193231
CREATED:20230830T130243Z
LAST-MODIFIED:20230830T130353Z
UID:10000030-1730282400-1730287800@worc-pa.com
SUMMARY:Start Smart Orientation
DESCRIPTION:Register to attend the Start Smart orientation session. Attending orientation is required for enrollment in the Start Smart program.
URL:https://worc-pa.com/event/start-smart-orientation/2024-10-30/
LOCATION:Online via Zoom
CATEGORIES:Orientation
END:VEVENT
BEGIN:VEVENT
DTSTART;TZID=UTC:20241016T100000
DTEND;TZID=UTC:20241016T113000
DTSTAMP:20260419T193231
CREATED:20230830T130243Z
LAST-MODIFIED:20230830T130353Z
UID:10000029-1729072800-1729078200@worc-pa.com
SUMMARY:Start Smart Orientation
DESCRIPTION:Register to attend the Start Smart orientation session. Attending orientation is required for enrollment in the Start Smart program.
URL:https://worc-pa.com/event/start-smart-orientation/2024-10-16/
LOCATION:Online via Zoom
CATEGORIES:Orientation
END:VEVENT
END:VCALENDAR