BEGIN:VCALENDAR
VERSION:2.0
PRODID:-//Women&#039;s Opportunities Resource Center - ECPv6.15.20//NONSGML v1.0//EN
CALSCALE:GREGORIAN
METHOD:PUBLISH
X-ORIGINAL-URL:https://worc-pa.com
X-WR-CALDESC:Events for Women&#039;s Opportunities Resource Center
REFRESH-INTERVAL;VALUE=DURATION:PT1H
X-Robots-Tag:noindex
X-PUBLISHED-TTL:PT1H
BEGIN:VTIMEZONE
TZID:UTC
BEGIN:STANDARD
TZOFFSETFROM:+0000
TZOFFSETTO:+0000
TZNAME:UTC
DTSTART:20250101T000000
END:STANDARD
END:VTIMEZONE
BEGIN:VEVENT
DTSTART;TZID=UTC:20261014T100000
DTEND;TZID=UTC:20261014T113000
DTSTAMP:20260420T042714
CREATED:20230830T130243Z
LAST-MODIFIED:20230830T130353Z
UID:10000081-1791972000-1791977400@worc-pa.com
SUMMARY:Start Smart Orientation
DESCRIPTION:Register to attend the Start Smart orientation session. Attending orientation is required for enrollment in the Start Smart program.
URL:https://worc-pa.com/event/start-smart-orientation/2026-10-14/
LOCATION:Online via Zoom
CATEGORIES:Orientation
END:VEVENT
BEGIN:VEVENT
DTSTART;TZID=UTC:20261028T100000
DTEND;TZID=UTC:20261028T113000
DTSTAMP:20260420T042714
CREATED:20230830T130243Z
LAST-MODIFIED:20230830T130353Z
UID:10000082-1793181600-1793187000@worc-pa.com
SUMMARY:Start Smart Orientation
DESCRIPTION:Register to attend the Start Smart orientation session. Attending orientation is required for enrollment in the Start Smart program.
URL:https://worc-pa.com/event/start-smart-orientation/2026-10-28/
LOCATION:Online via Zoom
CATEGORIES:Orientation
END:VEVENT
END:VCALENDAR