BEGIN:VCALENDAR
VERSION:2.0
PRODID:-//Women&#039;s Opportunities Resource Center - ECPv6.15.20//NONSGML v1.0//EN
CALSCALE:GREGORIAN
METHOD:PUBLISH
X-WR-CALNAME:Women&#039;s Opportunities Resource Center
X-ORIGINAL-URL:https://worc-pa.com
X-WR-CALDESC:Events for Women&#039;s Opportunities Resource Center
REFRESH-INTERVAL;VALUE=DURATION:PT1H
X-Robots-Tag:noindex
X-PUBLISHED-TTL:PT1H
BEGIN:VTIMEZONE
TZID:UTC
BEGIN:STANDARD
TZOFFSETFROM:+0000
TZOFFSETTO:+0000
TZNAME:UTC
DTSTART:20250101T000000
END:STANDARD
END:VTIMEZONE
BEGIN:VEVENT
DTSTART;TZID=UTC:20260421T140000
DTEND;TZID=UTC:20260421T170000
DTSTAMP:20260421T153102
CREATED:20260122T163812Z
LAST-MODIFIED:20260122T163947Z
UID:10000393-1776780000-1776790800@worc-pa.com
SUMMARY:Coming soon!  WORC Loan & Grant Conference
DESCRIPTION:Coming Soon! WORC Annual Loan & Grant Conference\n\nLearn how to maximize your income.\nLearn about funding opportunities for small businesses\, first time home owners & tuition.\nNetwork and connect with industry professionals\nLearn how to invest your time\, energy and effort into your business’ purpose.\n\n 
URL:https://worc-pa.com/event/coming-soon-worc-loan-grant-conference/
END:VEVENT
BEGIN:VEVENT
DTSTART;TZID=UTC:20260421T140000
DTEND;TZID=UTC:20260421T170000
DTSTAMP:20260421T153102
CREATED:20260206T153614Z
LAST-MODIFIED:20260206T153649Z
UID:10000394-1776780000-1776790800@worc-pa.com
SUMMARY:WORC Annual Loans & Grants Conference 2026
DESCRIPTION:WORC Annual Loans & Grants Conference 2026\n\nOverview\n\n\n\nExplore funding for business\, homeownership\, education\, and savings. Join WORC for resources\, guidance\, and connections. \n\n\n\n\nThe WORC Loans & Grants Conference is designed to support low to moderate income individuals and families pursuing asset building and long term financial stability. \nThis conference serves participants focused on education\, first time homeownership\, emergency preparedness\, children’s savings\, and business training\, development\, and expansion. Attendees will gain access to guidance\, resources\, and connections that support progress toward their financial goals. \nParticipants can expect to engage with lending institutions\, grant opportunities\, and WORC program staff across Savings\, Training\, and Lending. The conference is intended for individuals and families at various stages of readiness who are seeking tools\, capital\, and information to strengthen their financial future. \n\n\n\nRead less
URL:https://worc-pa.com/event/worc-annual-loans-grants-conference-2026/
END:VEVENT
BEGIN:VEVENT
DTSTART;TZID=UTC:20260423T180000
DTEND;TZID=UTC:20260423T190000
DTSTAMP:20260421T153102
CREATED:20260122T161250Z
LAST-MODIFIED:20260122T161913Z
UID:10000145-1776967200-1776970800@worc-pa.com
SUMMARY:FSA Orientation Workshop
DESCRIPTION:FSA Orientation Workshop\nRegister for the FREE zoom online FSA Orientation Workshop session.  Attending this orientation is required for enrollment of this program.
URL:https://worc-pa.com/event/1474-2/2026-04-23/
LOCATION:Online via Zoom
END:VEVENT
BEGIN:VEVENT
DTSTART;TZID=UTC:20260429T100000
DTEND;TZID=UTC:20260429T113000
DTSTAMP:20260421T153102
CREATED:20230830T130243Z
LAST-MODIFIED:20230830T130353Z
UID:10000069-1777456800-1777462200@worc-pa.com
SUMMARY:Start Smart Orientation
DESCRIPTION:Register to attend the Start Smart orientation session. Attending orientation is required for enrollment in the Start Smart program.
URL:https://worc-pa.com/event/start-smart-orientation/2026-04-29/
LOCATION:Online via Zoom
CATEGORIES:Orientation
END:VEVENT
BEGIN:VEVENT
DTSTART;TZID=UTC:20260430T180000
DTEND;TZID=UTC:20260430T190000
DTSTAMP:20260421T153102
CREATED:20260122T161250Z
LAST-MODIFIED:20260122T161913Z
UID:10000146-1777572000-1777575600@worc-pa.com
SUMMARY:FSA Orientation Workshop
DESCRIPTION:FSA Orientation Workshop\nRegister for the FREE zoom online FSA Orientation Workshop session.  Attending this orientation is required for enrollment of this program.
URL:https://worc-pa.com/event/1474-2/2026-04-30/
LOCATION:Online via Zoom
END:VEVENT
BEGIN:VEVENT
DTSTART;TZID=UTC:20260507T180000
DTEND;TZID=UTC:20260507T190000
DTSTAMP:20260421T153102
CREATED:20260122T161250Z
LAST-MODIFIED:20260122T161913Z
UID:10000147-1778176800-1778180400@worc-pa.com
SUMMARY:FSA Orientation Workshop
DESCRIPTION:FSA Orientation Workshop\nRegister for the FREE zoom online FSA Orientation Workshop session.  Attending this orientation is required for enrollment of this program.
URL:https://worc-pa.com/event/1474-2/2026-05-07/
LOCATION:Online via Zoom
END:VEVENT
BEGIN:VEVENT
DTSTART;TZID=UTC:20260513T100000
DTEND;TZID=UTC:20260513T113000
DTSTAMP:20260421T153102
CREATED:20230830T130243Z
LAST-MODIFIED:20230830T130353Z
UID:10000070-1778666400-1778671800@worc-pa.com
SUMMARY:Start Smart Orientation
DESCRIPTION:Register to attend the Start Smart orientation session. Attending orientation is required for enrollment in the Start Smart program.
URL:https://worc-pa.com/event/start-smart-orientation/2026-05-13/
LOCATION:Online via Zoom
CATEGORIES:Orientation
END:VEVENT
BEGIN:VEVENT
DTSTART;TZID=UTC:20260514T180000
DTEND;TZID=UTC:20260514T190000
DTSTAMP:20260421T153102
CREATED:20260122T161250Z
LAST-MODIFIED:20260122T161913Z
UID:10000148-1778781600-1778785200@worc-pa.com
SUMMARY:FSA Orientation Workshop
DESCRIPTION:FSA Orientation Workshop\nRegister for the FREE zoom online FSA Orientation Workshop session.  Attending this orientation is required for enrollment of this program.
URL:https://worc-pa.com/event/1474-2/2026-05-14/
LOCATION:Online via Zoom
END:VEVENT
BEGIN:VEVENT
DTSTART;TZID=UTC:20260521T180000
DTEND;TZID=UTC:20260521T190000
DTSTAMP:20260421T153102
CREATED:20260122T161250Z
LAST-MODIFIED:20260122T161913Z
UID:10000149-1779386400-1779390000@worc-pa.com
SUMMARY:FSA Orientation Workshop
DESCRIPTION:FSA Orientation Workshop\nRegister for the FREE zoom online FSA Orientation Workshop session.  Attending this orientation is required for enrollment of this program.
URL:https://worc-pa.com/event/1474-2/2026-05-21/
LOCATION:Online via Zoom
END:VEVENT
BEGIN:VEVENT
DTSTART;TZID=UTC:20260527T100000
DTEND;TZID=UTC:20260527T113000
DTSTAMP:20260421T153102
CREATED:20230830T130243Z
LAST-MODIFIED:20230830T130353Z
UID:10000071-1779876000-1779881400@worc-pa.com
SUMMARY:Start Smart Orientation
DESCRIPTION:Register to attend the Start Smart orientation session. Attending orientation is required for enrollment in the Start Smart program.
URL:https://worc-pa.com/event/start-smart-orientation/2026-05-27/
LOCATION:Online via Zoom
CATEGORIES:Orientation
END:VEVENT
BEGIN:VEVENT
DTSTART;TZID=UTC:20260528T180000
DTEND;TZID=UTC:20260528T190000
DTSTAMP:20260421T153102
CREATED:20260122T161250Z
LAST-MODIFIED:20260122T161913Z
UID:10000150-1779991200-1779994800@worc-pa.com
SUMMARY:FSA Orientation Workshop
DESCRIPTION:FSA Orientation Workshop\nRegister for the FREE zoom online FSA Orientation Workshop session.  Attending this orientation is required for enrollment of this program.
URL:https://worc-pa.com/event/1474-2/2026-05-28/
LOCATION:Online via Zoom
END:VEVENT
BEGIN:VEVENT
DTSTART;TZID=UTC:20260604T180000
DTEND;TZID=UTC:20260604T190000
DTSTAMP:20260421T153102
CREATED:20260122T161250Z
LAST-MODIFIED:20260122T161913Z
UID:10000151-1780596000-1780599600@worc-pa.com
SUMMARY:FSA Orientation Workshop
DESCRIPTION:FSA Orientation Workshop\nRegister for the FREE zoom online FSA Orientation Workshop session.  Attending this orientation is required for enrollment of this program.
URL:https://worc-pa.com/event/1474-2/2026-06-04/
LOCATION:Online via Zoom
END:VEVENT
BEGIN:VEVENT
DTSTART;TZID=UTC:20260610T100000
DTEND;TZID=UTC:20260610T113000
DTSTAMP:20260421T153102
CREATED:20230830T130243Z
LAST-MODIFIED:20230830T130353Z
UID:10000072-1781085600-1781091000@worc-pa.com
SUMMARY:Start Smart Orientation
DESCRIPTION:Register to attend the Start Smart orientation session. Attending orientation is required for enrollment in the Start Smart program.
URL:https://worc-pa.com/event/start-smart-orientation/2026-06-10/
LOCATION:Online via Zoom
CATEGORIES:Orientation
END:VEVENT
BEGIN:VEVENT
DTSTART;TZID=UTC:20260611T180000
DTEND;TZID=UTC:20260611T190000
DTSTAMP:20260421T153102
CREATED:20260122T161250Z
LAST-MODIFIED:20260122T161913Z
UID:10000152-1781200800-1781204400@worc-pa.com
SUMMARY:FSA Orientation Workshop
DESCRIPTION:FSA Orientation Workshop\nRegister for the FREE zoom online FSA Orientation Workshop session.  Attending this orientation is required for enrollment of this program.
URL:https://worc-pa.com/event/1474-2/2026-06-11/
LOCATION:Online via Zoom
END:VEVENT
BEGIN:VEVENT
DTSTART;TZID=UTC:20260618T180000
DTEND;TZID=UTC:20260618T190000
DTSTAMP:20260421T153102
CREATED:20260122T161250Z
LAST-MODIFIED:20260122T161913Z
UID:10000153-1781805600-1781809200@worc-pa.com
SUMMARY:FSA Orientation Workshop
DESCRIPTION:FSA Orientation Workshop\nRegister for the FREE zoom online FSA Orientation Workshop session.  Attending this orientation is required for enrollment of this program.
URL:https://worc-pa.com/event/1474-2/2026-06-18/
LOCATION:Online via Zoom
END:VEVENT
BEGIN:VEVENT
DTSTART;TZID=UTC:20260624T100000
DTEND;TZID=UTC:20260624T113000
DTSTAMP:20260421T153102
CREATED:20230830T130243Z
LAST-MODIFIED:20230830T130353Z
UID:10000073-1782295200-1782300600@worc-pa.com
SUMMARY:Start Smart Orientation
DESCRIPTION:Register to attend the Start Smart orientation session. Attending orientation is required for enrollment in the Start Smart program.
URL:https://worc-pa.com/event/start-smart-orientation/2026-06-24/
LOCATION:Online via Zoom
CATEGORIES:Orientation
END:VEVENT
BEGIN:VEVENT
DTSTART;TZID=UTC:20260625T180000
DTEND;TZID=UTC:20260625T190000
DTSTAMP:20260421T153102
CREATED:20260122T161250Z
LAST-MODIFIED:20260122T161913Z
UID:10000154-1782410400-1782414000@worc-pa.com
SUMMARY:FSA Orientation Workshop
DESCRIPTION:FSA Orientation Workshop\nRegister for the FREE zoom online FSA Orientation Workshop session.  Attending this orientation is required for enrollment of this program.
URL:https://worc-pa.com/event/1474-2/2026-06-25/
LOCATION:Online via Zoom
END:VEVENT
BEGIN:VEVENT
DTSTART;TZID=UTC:20260702T180000
DTEND;TZID=UTC:20260702T190000
DTSTAMP:20260421T153102
CREATED:20260122T161250Z
LAST-MODIFIED:20260122T161913Z
UID:10000155-1783015200-1783018800@worc-pa.com
SUMMARY:FSA Orientation Workshop
DESCRIPTION:FSA Orientation Workshop\nRegister for the FREE zoom online FSA Orientation Workshop session.  Attending this orientation is required for enrollment of this program.
URL:https://worc-pa.com/event/1474-2/2026-07-02/
LOCATION:Online via Zoom
END:VEVENT
BEGIN:VEVENT
DTSTART;TZID=UTC:20260708T100000
DTEND;TZID=UTC:20260708T113000
DTSTAMP:20260421T153102
CREATED:20230830T130243Z
LAST-MODIFIED:20230830T130353Z
UID:10000074-1783504800-1783510200@worc-pa.com
SUMMARY:Start Smart Orientation
DESCRIPTION:Register to attend the Start Smart orientation session. Attending orientation is required for enrollment in the Start Smart program.
URL:https://worc-pa.com/event/start-smart-orientation/2026-07-08/
LOCATION:Online via Zoom
CATEGORIES:Orientation
END:VEVENT
BEGIN:VEVENT
DTSTART;TZID=UTC:20260709T180000
DTEND;TZID=UTC:20260709T190000
DTSTAMP:20260421T153102
CREATED:20260122T161250Z
LAST-MODIFIED:20260122T161913Z
UID:10000156-1783620000-1783623600@worc-pa.com
SUMMARY:FSA Orientation Workshop
DESCRIPTION:FSA Orientation Workshop\nRegister for the FREE zoom online FSA Orientation Workshop session.  Attending this orientation is required for enrollment of this program.
URL:https://worc-pa.com/event/1474-2/2026-07-09/
LOCATION:Online via Zoom
END:VEVENT
BEGIN:VEVENT
DTSTART;TZID=UTC:20260716T180000
DTEND;TZID=UTC:20260716T190000
DTSTAMP:20260421T153102
CREATED:20260122T161250Z
LAST-MODIFIED:20260122T161913Z
UID:10000157-1784224800-1784228400@worc-pa.com
SUMMARY:FSA Orientation Workshop
DESCRIPTION:FSA Orientation Workshop\nRegister for the FREE zoom online FSA Orientation Workshop session.  Attending this orientation is required for enrollment of this program.
URL:https://worc-pa.com/event/1474-2/2026-07-16/
LOCATION:Online via Zoom
END:VEVENT
BEGIN:VEVENT
DTSTART;TZID=UTC:20260722T100000
DTEND;TZID=UTC:20260722T113000
DTSTAMP:20260421T153102
CREATED:20230830T130243Z
LAST-MODIFIED:20230830T130353Z
UID:10000075-1784714400-1784719800@worc-pa.com
SUMMARY:Start Smart Orientation
DESCRIPTION:Register to attend the Start Smart orientation session. Attending orientation is required for enrollment in the Start Smart program.
URL:https://worc-pa.com/event/start-smart-orientation/2026-07-22/
LOCATION:Online via Zoom
CATEGORIES:Orientation
END:VEVENT
BEGIN:VEVENT
DTSTART;TZID=UTC:20260723T180000
DTEND;TZID=UTC:20260723T190000
DTSTAMP:20260421T153102
CREATED:20260122T161250Z
LAST-MODIFIED:20260122T161913Z
UID:10000158-1784829600-1784833200@worc-pa.com
SUMMARY:FSA Orientation Workshop
DESCRIPTION:FSA Orientation Workshop\nRegister for the FREE zoom online FSA Orientation Workshop session.  Attending this orientation is required for enrollment of this program.
URL:https://worc-pa.com/event/1474-2/2026-07-23/
LOCATION:Online via Zoom
END:VEVENT
BEGIN:VEVENT
DTSTART;TZID=UTC:20260730T180000
DTEND;TZID=UTC:20260730T190000
DTSTAMP:20260421T153103
CREATED:20260122T161250Z
LAST-MODIFIED:20260122T161913Z
UID:10000159-1785434400-1785438000@worc-pa.com
SUMMARY:FSA Orientation Workshop
DESCRIPTION:FSA Orientation Workshop\nRegister for the FREE zoom online FSA Orientation Workshop session.  Attending this orientation is required for enrollment of this program.
URL:https://worc-pa.com/event/1474-2/2026-07-30/
LOCATION:Online via Zoom
END:VEVENT
BEGIN:VEVENT
DTSTART;TZID=UTC:20260805T100000
DTEND;TZID=UTC:20260805T113000
DTSTAMP:20260421T153103
CREATED:20230830T130243Z
LAST-MODIFIED:20230830T130353Z
UID:10000076-1785924000-1785929400@worc-pa.com
SUMMARY:Start Smart Orientation
DESCRIPTION:Register to attend the Start Smart orientation session. Attending orientation is required for enrollment in the Start Smart program.
URL:https://worc-pa.com/event/start-smart-orientation/2026-08-05/
LOCATION:Online via Zoom
CATEGORIES:Orientation
END:VEVENT
BEGIN:VEVENT
DTSTART;TZID=UTC:20260806T180000
DTEND;TZID=UTC:20260806T190000
DTSTAMP:20260421T153103
CREATED:20260122T161250Z
LAST-MODIFIED:20260122T161913Z
UID:10000160-1786039200-1786042800@worc-pa.com
SUMMARY:FSA Orientation Workshop
DESCRIPTION:FSA Orientation Workshop\nRegister for the FREE zoom online FSA Orientation Workshop session.  Attending this orientation is required for enrollment of this program.
URL:https://worc-pa.com/event/1474-2/2026-08-06/
LOCATION:Online via Zoom
END:VEVENT
BEGIN:VEVENT
DTSTART;TZID=UTC:20260813T180000
DTEND;TZID=UTC:20260813T190000
DTSTAMP:20260421T153103
CREATED:20260122T161250Z
LAST-MODIFIED:20260122T161913Z
UID:10000161-1786644000-1786647600@worc-pa.com
SUMMARY:FSA Orientation Workshop
DESCRIPTION:FSA Orientation Workshop\nRegister for the FREE zoom online FSA Orientation Workshop session.  Attending this orientation is required for enrollment of this program.
URL:https://worc-pa.com/event/1474-2/2026-08-13/
LOCATION:Online via Zoom
END:VEVENT
BEGIN:VEVENT
DTSTART;TZID=UTC:20260819T100000
DTEND;TZID=UTC:20260819T113000
DTSTAMP:20260421T153103
CREATED:20230830T130243Z
LAST-MODIFIED:20230830T130353Z
UID:10000077-1787133600-1787139000@worc-pa.com
SUMMARY:Start Smart Orientation
DESCRIPTION:Register to attend the Start Smart orientation session. Attending orientation is required for enrollment in the Start Smart program.
URL:https://worc-pa.com/event/start-smart-orientation/2026-08-19/
LOCATION:Online via Zoom
CATEGORIES:Orientation
END:VEVENT
BEGIN:VEVENT
DTSTART;TZID=UTC:20260820T180000
DTEND;TZID=UTC:20260820T190000
DTSTAMP:20260421T153103
CREATED:20260122T161250Z
LAST-MODIFIED:20260122T161913Z
UID:10000162-1787248800-1787252400@worc-pa.com
SUMMARY:FSA Orientation Workshop
DESCRIPTION:FSA Orientation Workshop\nRegister for the FREE zoom online FSA Orientation Workshop session.  Attending this orientation is required for enrollment of this program.
URL:https://worc-pa.com/event/1474-2/2026-08-20/
LOCATION:Online via Zoom
END:VEVENT
BEGIN:VEVENT
DTSTART;TZID=UTC:20260827T180000
DTEND;TZID=UTC:20260827T190000
DTSTAMP:20260421T153103
CREATED:20260122T161250Z
LAST-MODIFIED:20260122T161913Z
UID:10000163-1787853600-1787857200@worc-pa.com
SUMMARY:FSA Orientation Workshop
DESCRIPTION:FSA Orientation Workshop\nRegister for the FREE zoom online FSA Orientation Workshop session.  Attending this orientation is required for enrollment of this program.
URL:https://worc-pa.com/event/1474-2/2026-08-27/
LOCATION:Online via Zoom
END:VEVENT
END:VCALENDAR